BEGIN:VCALENDAR
VERSION:2.0
PRODID:-//One Connect Hub - ECPv6.9.0//NONSGML v1.0//EN
CALSCALE:GREGORIAN
METHOD:PUBLISH
X-ORIGINAL-URL:https://oneconnecthub.al
X-WR-CALDESC:Events for One Connect Hub
REFRESH-INTERVAL;VALUE=DURATION:PT1H
X-Robots-Tag:noindex
X-PUBLISHED-TTL:PT1H
BEGIN:VTIMEZONE
TZID:Europe/Paris
BEGIN:DAYLIGHT
TZOFFSETFROM:+0100
TZOFFSETTO:+0200
TZNAME:CEST
DTSTART:20260329T010000
END:DAYLIGHT
BEGIN:STANDARD
TZOFFSETFROM:+0200
TZOFFSETTO:+0100
TZNAME:CET
DTSTART:20261025T010000
END:STANDARD
END:VTIMEZONE
BEGIN:VEVENT
DTSTART;TZID=Europe/Paris:20260224T173000
DTEND;TZID=Europe/Paris:20260224T193000
DTSTAMP:20260425T141723
CREATED:20260223T101853Z
LAST-MODIFIED:20260223T102852Z
UID:2881-1771954200-1771961400@oneconnecthub.al
SUMMARY:Product Launch - Brisk Square
DESCRIPTION:* Brisk Square është një lojë VR\, e cila ka arritur mbi 700\,000 shkarkime në nivel global. Loja ofron një eksperiencë infinite-run të vendosur në një ambient futuristik cyberpunk\, ku përdoruesit mund të luajnë si në modalitet solo ashtu edhe në multiplayer. \n* Brisk Square is a VR game that has reached over 700\,000 downloads globally. The game offers an infinite-run experience set in a futuristic cyberpunk environment\, where users can play in both solo and multiplayer modes.
URL:https://oneconnecthub.al/event/product-launch-brisk-square/
CATEGORIES:Third Parties
ATTACH;FMTTYPE=image/jpeg:https://oneconnecthub.al/wp-content/uploads/2026/02/WhatsApp-Image-2026-02-16-at-11.07.32-AM.jpeg
END:VEVENT
END:VCALENDAR