BEGIN:VCALENDAR
VERSION:2.0
PRODID:-//One Connect Hub - ECPv6.9.0//NONSGML v1.0//EN
CALSCALE:GREGORIAN
METHOD:PUBLISH
X-ORIGINAL-URL:https://oneconnecthub.al
X-WR-CALDESC:Events for One Connect Hub
REFRESH-INTERVAL;VALUE=DURATION:PT1H
X-Robots-Tag:noindex
X-PUBLISHED-TTL:PT1H
BEGIN:VTIMEZONE
TZID:UTC
BEGIN:STANDARD
TZOFFSETFROM:+0000
TZOFFSETTO:+0000
TZNAME:UTC
DTSTART:20240101T000000
END:STANDARD
END:VTIMEZONE
BEGIN:VEVENT
DTSTART;VALUE=DATE:20241210
DTEND;VALUE=DATE:20241211
DTSTAMP:20260425T234550
CREATED:20250109T134538Z
LAST-MODIFIED:20260217T151556Z
UID:1789-1733788800-1733875199@oneconnecthub.al
SUMMARY:One Connect Hub Launch
DESCRIPTION:One Connect Hub\, One Albania with a new technology and innovation space at Piramida\nA new unique space for technology has been added to the capital\, near the premises of the Pyramid. This Wednesday\, One Albania has inaugurated One Connect Hub\, an innovation and technology center that will promote cooperation between technology enthusiasts\, innovators and startup creators. \nIn his opening speech\, the executive director of One Albania emphasized the role of this center as a promoter of technological advancement and creativity. \n“At One Albania we are very focused on empowering the community we serve. We believe that technology should be accessible to everyone”\, said Brano Djurovic\, executive director of One Albania. “One Connect Hub is the way we support young people\, startups and communities\, offering an opportunity to different ecosystems throughout Albania to bring their proposals to this space.” \n 
URL:https://oneconnecthub.al/event/one-connect-hub-launch/
LOCATION:Hub\, Adress: “Bajram Curri” Boulevard\, Piramida Center\, Unit BE5\, Tirana\, Albania\, tirane\, 1001\, Albania
CATEGORIES:One Albania
ATTACH;FMTTYPE=image/jpeg:https://oneconnecthub.al/wp-content/uploads/2025/01/785-0-673f50c3ea22e.jpg
ORGANIZER;CN="One Albania Events":MAILTO:info@one.al
END:VEVENT
BEGIN:VEVENT
DTSTART;VALUE=DATE:20241230
DTEND;VALUE=DATE:20250101
DTSTAMP:20260425T234550
CREATED:20250109T140158Z
LAST-MODIFIED:20260217T151102Z
UID:1798-1735516800-1735689599@oneconnecthub.al
SUMMARY:VR for Education
DESCRIPTION:* Një vizitë në piramidat e Egjiptit apo një zhytje në oqean për të përshëndetur balenën\, janë më afër se kurrë falë teknologjisë së realitetit virtual të ofruar në One Connect Hub. Në një kombim perfekt mes argëtimit dhe edukimit\, fëmijët e stafit të One Albania patën mundësi të transportohen në një botë virtuale ku gjithçka është e mundur. 🥽🎮🕹️ Nga eksplorimi i piramidave\, te lojërat me qitje e deri te mësimi rreth anatomisë dhe fiziologjisë së trupit të njeriut kjo përvojë digjitale ofroi mundësi të shumta për të vegjlit për të luajtur\, por edhe për të mësuar. 💡 Ju ftojmë të shijoni disa momente nga aktivitetet e mbajtura pranë Piramidës! \n* A visit to the pyramids of Egypt or a dive into the ocean to greet a whale is closer than ever\, thanks to the virtual reality technology offered at One Connect Hub. In a perfect blend of entertainment and education\, the children of One Albania’s staff had the opportunity to be transported into a virtual world where everything is possible. 🥽🎮🕹️\nFrom exploring the pyramids to shooting games and learning about the anatomy and physiology of the human body\, this digital experience offered numerous opportunities for the little ones to play\, but also to learn. 💡 We invite you to enjoy some moments from the activities held at the Pyramid!
URL:https://oneconnecthub.al/event/vr-for-educations/
LOCATION:Hub\, Adress: “Bajram Curri” Boulevard\, Piramida Center\, Unit BE5\, Tirana\, Albania\, tirane\, 1001\, Albania
CATEGORIES:One Albania
ATTACH;FMTTYPE=image/jpeg:https://oneconnecthub.al/wp-content/uploads/2024/12/7-scaled.jpg
ORGANIZER;CN="One Albania Events":MAILTO:info@one.al
END:VEVENT
END:VCALENDAR