BEGIN:VCALENDAR
VERSION:2.0
PRODID:-//One Connect Hub - ECPv6.9.0//NONSGML v1.0//EN
CALSCALE:GREGORIAN
METHOD:PUBLISH
X-WR-CALNAME:One Connect Hub
X-ORIGINAL-URL:https://oneconnecthub.al
X-WR-CALDESC:Events for One Connect Hub
REFRESH-INTERVAL;VALUE=DURATION:PT1H
X-Robots-Tag:noindex
X-PUBLISHED-TTL:PT1H
BEGIN:VTIMEZONE
TZID:UTC
BEGIN:STANDARD
TZOFFSETFROM:+0000
TZOFFSETTO:+0000
TZNAME:UTC
DTSTART:20250101T000000
END:STANDARD
END:VTIMEZONE
BEGIN:VEVENT
DTSTART;TZID=UTC:20250122T190000
DTEND;TZID=UTC:20250122T210000
DTSTAMP:20260425T215745
CREATED:20250117T102228Z
LAST-MODIFIED:20260217T151003Z
UID:1830-1737572400-1737579600@oneconnecthub.al
SUMMARY:Samsung S25 Launch / Unpack event
DESCRIPTION:* One Connect Hub do të mirëpresë “Unpacked Event” të Samsung drejtpërdrejt te Piramida. Eventi është planifikuar të nisë në orën 19:00 dhe do të transmetohet live në të gjitha kanalet e rrjeteve sociale të Samsung\, si dhe në faqen e internetit të One Connect Hub. Ky “Unpacked Event” do të zbulojë Galaxy S25\, së bashku me përditësimet e Galaxy AI.\nSamsung zakonisht i mban eventet e tij “Unpacked” dy herë në vit: një herë në janar ose shkurt\, ku prezanton linjën më të re të Galaxy S\, dhe përsëri në verë\, kur prezanton versionin e radhës të pajisjeve të tij të palosshme (foldable). \n* One Connect Hub will host Samsung’s “Unpacked Event” live at the Pyramid. The event is scheduled to begin at 19:00 and will be live-streamed across all of Samsung’s social media channels as well as on One Connect Hub’s website. This Unpacked Event will unveil the Galaxy S25\, along with updates to Galaxy AI.\nSamsung typically hosts its Unpacked events twice a year: once in January or February\, when it reveals the latest Galaxy S lineup\, and again in the summer\, when it debuts the next version of its foldable devices.
URL:https://oneconnecthub.al/event/samsung-s25-launch-unpack-event/
CATEGORIES:One Albania
ATTACH;FMTTYPE=image/jpeg:https://oneconnecthub.al/wp-content/uploads/2025/01/Image-5.jpg
ORGANIZER;CN="One Albania Events":MAILTO:info@one.al
END:VEVENT
END:VCALENDAR