BEGIN:VCALENDAR
VERSION:2.0
PRODID:-//One Connect Hub - ECPv6.9.0//NONSGML v1.0//EN
CALSCALE:GREGORIAN
METHOD:PUBLISH
X-WR-CALNAME:One Connect Hub
X-ORIGINAL-URL:https://oneconnecthub.al
X-WR-CALDESC:Events for One Connect Hub
REFRESH-INTERVAL;VALUE=DURATION:PT1H
X-Robots-Tag:noindex
X-PUBLISHED-TTL:PT1H
BEGIN:VTIMEZONE
TZID:UTC
BEGIN:STANDARD
TZOFFSETFROM:+0000
TZOFFSETTO:+0000
TZNAME:UTC
DTSTART:20250101T000000
END:STANDARD
END:VTIMEZONE
BEGIN:VEVENT
DTSTART;TZID=UTC:20250305T110000
DTEND;TZID=UTC:20250305T130000
DTSTAMP:20260425T181248
CREATED:20250303T095315Z
LAST-MODIFIED:20260217T150754Z
UID:1877-1741172400-1741179600@oneconnecthub.al
SUMMARY:Open Session - Bëje si Arjeta Puca
DESCRIPTION:* Një sesion praktik me Arjeta Pucën\, inxhiniere dhe themeluese e Timak\, kompani e specializuar në ndërtimin dhe prodhimin e automjeteve. Pjesemarresit do të mësojnë mbi procesin e projektimit dhe prodhimit të automjeteve\, inovacionin në këtë industri dhe aplikimet e teknologjisë në prodhim. Diskutim mbi sfidat dhe mundësitë për gratë në inxhinieri dhe sektorin e prodhimit. \n* A practical session with Arjeta Puca\, engineer and founder of Timak\, a company specialized in the construction and manufacturing of vehicles. Participants will learn about the vehicle design and production process\, innovation in this industry\, and technology applications in manufacturing. Discussion on challenges and opportunities for women in engineering and the manufacturing sector.
URL:https://oneconnecthub.al/event/beje-si-arjeta-puca/
CATEGORIES:One Albania
ATTACH;FMTTYPE=image/jpeg:https://oneconnecthub.al/wp-content/uploads/2025/03/Timak.jpg
END:VEVENT
BEGIN:VEVENT
DTSTART;TZID=UTC:20250306T100000
DTEND;TZID=UTC:20250306T130000
DTSTAMP:20260425T181248
CREATED:20250303T085946Z
LAST-MODIFIED:20260217T150608Z
UID:1874-1741255200-1741266000@oneconnecthub.al
SUMMARY:Workshop - Bëje si Kolektivi Zanat
DESCRIPTION:* Një punëtori arti me artistet e Kolektivi Zanat dhe studentet te artit dhe dizajnit\, ku pjesëmarrëset do të eksplorojnë rolin e artit në fuqizimin e grave dhe do të krijojnë dizajne unike\, të stampuara në postera dhe tote bag si mesazh për barazinë dhe fuqizimin. \n* An art workshop with artists from Kolektivi Zanat and art and design students\, where participants will explore the role of art in women’s empowerment and create unique designs\, printed on posters and tote bags as a message for equality and empowerment.
URL:https://oneconnecthub.al/event/beje-si-kolektivi-zanat/
CATEGORIES:One Albania
ATTACH;FMTTYPE=image/jpeg:https://oneconnecthub.al/wp-content/uploads/2025/03/kolektivi-zanat.jpg
END:VEVENT
END:VCALENDAR