BEGIN:VCALENDAR
VERSION:2.0
PRODID:-//One Connect Hub - ECPv6.9.0//NONSGML v1.0//EN
CALSCALE:GREGORIAN
METHOD:PUBLISH
X-WR-CALNAME:One Connect Hub
X-ORIGINAL-URL:https://oneconnecthub.al
X-WR-CALDESC:Events for One Connect Hub
REFRESH-INTERVAL;VALUE=DURATION:PT1H
X-Robots-Tag:noindex
X-PUBLISHED-TTL:PT1H
BEGIN:VTIMEZONE
TZID:Europe/Paris
BEGIN:DAYLIGHT
TZOFFSETFROM:+0100
TZOFFSETTO:+0200
TZNAME:CEST
DTSTART:20260329T010000
END:DAYLIGHT
BEGIN:STANDARD
TZOFFSETFROM:+0200
TZOFFSETTO:+0100
TZNAME:CET
DTSTART:20261025T010000
END:STANDARD
END:VTIMEZONE
BEGIN:VEVENT
DTSTART;TZID=Europe/Paris:20260128T110000
DTEND;TZID=Europe/Paris:20260128T130000
DTSTAMP:20260425T010708
CREATED:20260120T143124Z
LAST-MODIFIED:20260120T143124Z
UID:2738-1769598000-1769605200@oneconnecthub.al
SUMMARY:Data Privacy Day @ One Albania
DESCRIPTION:
URL:https://oneconnecthub.al/event/data-privacy-day-one-albania/
CATEGORIES:One Albania
ATTACH;FMTTYPE=image/png:https://oneconnecthub.al/wp-content/uploads/2026/01/Data-Privacy-Day-Web-Banner-ok-04-003.png
END:VEVENT
END:VCALENDAR