BEGIN:VCALENDAR
VERSION:2.0
PRODID:-//One Connect Hub - ECPv6.9.0//NONSGML v1.0//EN
CALSCALE:GREGORIAN
METHOD:PUBLISH
X-WR-CALNAME:One Connect Hub
X-ORIGINAL-URL:https://oneconnecthub.al
X-WR-CALDESC:Events for One Connect Hub
REFRESH-INTERVAL;VALUE=DURATION:PT1H
X-Robots-Tag:noindex
X-PUBLISHED-TTL:PT1H
BEGIN:VTIMEZONE
TZID:Europe/Paris
BEGIN:DAYLIGHT
TZOFFSETFROM:+0100
TZOFFSETTO:+0200
TZNAME:CEST
DTSTART:20250330T010000
END:DAYLIGHT
BEGIN:STANDARD
TZOFFSETFROM:+0200
TZOFFSETTO:+0100
TZNAME:CET
DTSTART:20251026T010000
END:STANDARD
END:VTIMEZONE
BEGIN:VEVENT
DTSTART;TZID=Europe/Paris:20250603T173000
DTEND;TZID=Europe/Paris:20250603T193000
DTSTAMP:20260426T040200
CREATED:20250530T095438Z
LAST-MODIFIED:20260217T145413Z
UID:2544-1748971800-1748979000@oneconnecthub.al
SUMMARY:Product Launch - SunEasy
DESCRIPTION:* SunEasy është një platformë digjitale që thjeshton rezervimin e shezlongëve në plazh dhe porositjen e produkteve direkt nga çadra. Me aplikacionin SunEasy Client\, pushuesit mund të rezervojnë paraprakisht vendin e tyre në plazh dhe të bëjnë porosi me një klikim\, ndërsa me SunEasy Business\, bizneset plazhore menaxhojnë lehtësisht rezervimet\, stafin dhe porositë në kohë reale. Platforma synon të përmirësojë përvojën e pushuesve dhe të dixhitalizojë shërbimet plazhore në Shqipëri dhe më gjerë. \n* SunEasy is a digital platform that simplifies beach sunbed reservations and allows for ordering products directly from the umbrella. With the SunEasy Client app\, vacationers can pre-book their spot at the beach and place orders with a single click\, while with SunEasy Business\, beach businesses can easily manage reservations\, staff\, and orders in real-time. The platform aims to enhance the vacationer experience and digitalize beach services in Albania and beyond.
URL:https://oneconnecthub.al/event/suneasy-launch/
CATEGORIES:Third Parties
ATTACH;FMTTYPE=image/jpeg:https://oneconnecthub.al/wp-content/uploads/2025/05/SunEasy-Landscape-Poster.jpeg
END:VEVENT
BEGIN:VEVENT
DTSTART;TZID=Europe/Paris:20250604T180000
DTEND;TZID=Europe/Paris:20250604T200000
DTSTAMP:20260426T040200
CREATED:20250520T122857Z
LAST-MODIFIED:20260219T102200Z
UID:2537-1749060000-1749067200@oneconnecthub.al
SUMMARY:Bytes & Books Forum
DESCRIPTION:* Në takimin e radhës do të diskutojmë librin “Loja” nga Alessandro Baricco\, një reflektim magjepsës mbi mënyrën si teknologjia ka ndryshuar jo vetëm sjelljen tonë\, por edhe vetë natyrën njerëzore. \n* In the next meeting\, we will discuss the book “The Game” by Alessandro Baricco—a fascinating reflection on how technology has changed not only our behavior but human nature itself.
URL:https://oneconnecthub.al/event/bytesbooks-4/
CATEGORIES:Third Parties
ATTACH;FMTTYPE=image/png:https://oneconnecthub.al/wp-content/uploads/2025/05/bbb4.png
END:VEVENT
BEGIN:VEVENT
DTSTART;TZID=Europe/Paris:20250611T180000
DTEND;TZID=Europe/Paris:20250611T200000
DTSTAMP:20260426T040200
CREATED:20250605T135137Z
LAST-MODIFIED:20260217T145300Z
UID:2552-1749664800-1749672000@oneconnecthub.al
SUMMARY:Young People and Job Opportunities - LDA Europe
DESCRIPTION:* Në kuadër të projektit NURTURE – Erasmus+\, kemi kënaqësinë t’ju ftojmë të merrni pjesë në eventin “Young People and Job Opportunities”\, që do të zhvillohet:\nData: 11 Qershor  2025\nEventi ka si qëllim të trajtojë mundësitë e punësimit për të rinjtë nëpërmjet dy paneleve diskutimi. \n* In the framework of the NURTURE – Erasmus+ project\, we are pleased to invite you to participate in the event “Young People and Job Opportunities\,” which will take place on:\nDate: June 11\, 2025\nThe event aims to address employment opportunities for youth through two discussion panels.
URL:https://oneconnecthub.al/event/young-people-and-job-opportunities-lda-europe/
CATEGORIES:Third Parties
ATTACH;FMTTYPE=image/jpeg:https://oneconnecthub.al/wp-content/uploads/2025/06/WhatsApp-Image-2025-06-03-at-4.49.33-PM.jpeg
END:VEVENT
BEGIN:VEVENT
DTSTART;TZID=Europe/Paris:20250617T100000
DTEND;TZID=Europe/Paris:20250617T130000
DTSTAMP:20260426T040200
CREATED:20250610T145117Z
LAST-MODIFIED:20260217T145211Z
UID:2559-1750154400-1750165200@oneconnecthub.al
SUMMARY:Muza Podcast
DESCRIPTION:* “MUZA Podcast” – një hapësirë e dedikuar për të reflektuar mbi rolin e artit\, krijimtarisë dhe edukimit estetik tek të rinjtë. Përmes bisedave me finalistë\, mentorë\, artistë\, personalitete të industrisë krijuese dhe partnerë\, ky podcast sjell perspektiva të ndryshme mbi zhvillimin personal\, fuqizimin e të rinjve dhe ndikimin që arti mund të ketë në shoqëri. \nÇdo episod është një ftesë për të kuptuar më thellë procesin krijues\, sfidat dhe mundësitë që u ofrohen të rinjve përmes një platforme si MUZA. “MUZA Podcast” synon të dokumentojë dhe ndajë historitë e atyre që frymëzojnë dhe ndërtojnë kulturën e së ardhmes. \n* “MUZA Podcast” – a dedicated space to reflect on the role of art\, creativity\, and aesthetic education among youth. Through conversations with finalists\, mentors\, artists\, creative industry personalities\, and partners\, this podcast brings diverse perspectives on personal development\, youth empowerment\, and the impact art can have on society. \nEach episode is an invitation to deeply understand the creative process\, the challenges\, and the opportunities offered to young people through a platform like MUZA. “MUZA Podcast” aims to document and share the stories of those who inspire and build the culture of the future.
URL:https://oneconnecthub.al/event/muza-podcast/
CATEGORIES:Third Parties
ATTACH;FMTTYPE=image/jpeg:https://oneconnecthub.al/wp-content/uploads/2025/06/podcast-muza-mm-scaled.jpg
END:VEVENT
BEGIN:VEVENT
DTSTART;TZID=Europe/Paris:20250620T100000
DTEND;TZID=Europe/Paris:20250620T130000
DTSTAMP:20260426T040200
CREATED:20250610T145218Z
LAST-MODIFIED:20260217T145200Z
UID:2562-1750413600-1750424400@oneconnecthub.al
SUMMARY:Muza Podcast
DESCRIPTION:* “MUZA Podcast” – një hapësirë e dedikuar për të reflektuar mbi rolin e artit\, krijimtarisë dhe edukimit estetik tek të rinjtë. Përmes bisedave me finalistë\, mentorë\, artistë\, personalitete të industrisë krijuese dhe partnerë\, ky podcast sjell perspektiva të ndryshme mbi zhvillimin personal\, fuqizimin e të rinjve dhe ndikimin që arti mund të ketë në shoqëri. \nÇdo episod është një ftesë për të kuptuar më thellë procesin krijues\, sfidat dhe mundësitë që u ofrohen të rinjve përmes një platforme si MUZA. “MUZA Podcast” synon të dokumentojë dhe ndajë historitë e atyre që frymëzojnë dhe ndërtojnë kulturën e së ardhmes. \n* “MUZA Podcast” – a dedicated space to reflect on the role of art\, creativity\, and aesthetic education among youth. Through conversations with finalists\, mentors\, artists\, creative industry personalities\, and partners\, this podcast brings diverse perspectives on personal development\, youth empowerment\, and the impact art can have on society. \nEach episode is an invitation to deeply understand the creative process\, the challenges\, and the opportunities offered to young people through a platform like MUZA. “MUZA Podcast” aims to document and share the stories of those who inspire and build the culture of the future.
URL:https://oneconnecthub.al/event/muza-podcast-2/
CATEGORIES:Third Parties
ATTACH;FMTTYPE=image/jpeg:https://oneconnecthub.al/wp-content/uploads/2025/06/podcast-muza-mm-scaled.jpg
END:VEVENT
BEGIN:VEVENT
DTSTART;TZID=Europe/Paris:20250623T100000
DTEND;TZID=Europe/Paris:20250623T130000
DTSTAMP:20260426T040200
CREATED:20250610T145343Z
LAST-MODIFIED:20260217T145134Z
UID:2564-1750672800-1750683600@oneconnecthub.al
SUMMARY:Muza Podcast
DESCRIPTION:* “MUZA Podcast” – një hapësirë e dedikuar për të reflektuar mbi rolin e artit\, krijimtarisë dhe edukimit estetik tek të rinjtë. Përmes bisedave me finalistë\, mentorë\, artistë\, personalitete të industrisë krijuese dhe partnerë\, ky podcast sjell perspektiva të ndryshme mbi zhvillimin personal\, fuqizimin e të rinjve dhe ndikimin që arti mund të ketë në shoqëri. \nÇdo episod është një ftesë për të kuptuar më thellë procesin krijues\, sfidat dhe mundësitë që u ofrohen të rinjve përmes një platforme si MUZA. “MUZA Podcast” synon të dokumentojë dhe ndajë historitë e atyre që frymëzojnë dhe ndërtojnë kulturën e së ardhmes. \n* “MUZA Podcast” – a dedicated space to reflect on the role of art\, creativity\, and aesthetic education among youth. Through conversations with finalists\, mentors\, artists\, creative industry personalities\, and partners\, this podcast brings diverse perspectives on personal development\, youth empowerment\, and the impact art can have on society. \nEach episode is an invitation to deeply understand the creative process\, the challenges\, and the opportunities offered to young people through a platform like MUZA. “MUZA Podcast” aims to document and share the stories of those who inspire and build the culture of the future.
URL:https://oneconnecthub.al/event/muza-podcast-3/
CATEGORIES:Third Parties
ATTACH;FMTTYPE=image/jpeg:https://oneconnecthub.al/wp-content/uploads/2025/06/podcast-muza-mm-scaled.jpg
END:VEVENT
BEGIN:VEVENT
DTSTART;TZID=Europe/Paris:20250624T100000
DTEND;TZID=Europe/Paris:20250624T130000
DTSTAMP:20260426T040200
CREATED:20250610T145534Z
LAST-MODIFIED:20260217T145125Z
UID:2566-1750759200-1750770000@oneconnecthub.al
SUMMARY:Muza Podcast
DESCRIPTION:* “MUZA Podcast” – një hapësirë e dedikuar për të reflektuar mbi rolin e artit\, krijimtarisë dhe edukimit estetik tek të rinjtë. Përmes bisedave me finalistë\, mentorë\, artistë\, personalitete të industrisë krijuese dhe partnerë\, ky podcast sjell perspektiva të ndryshme mbi zhvillimin personal\, fuqizimin e të rinjve dhe ndikimin që arti mund të ketë në shoqëri. \nÇdo episod është një ftesë për të kuptuar më thellë procesin krijues\, sfidat dhe mundësitë që u ofrohen të rinjve përmes një platforme si MUZA. “MUZA Podcast” synon të dokumentojë dhe ndajë historitë e atyre që frymëzojnë dhe ndërtojnë kulturën e së ardhmes. \n* “MUZA Podcast” – a dedicated space to reflect on the role of art\, creativity\, and aesthetic education among youth. Through conversations with finalists\, mentors\, artists\, creative industry personalities\, and partners\, this podcast brings diverse perspectives on personal development\, youth empowerment\, and the impact art can have on society. \nEach episode is an invitation to deeply understand the creative process\, the challenges\, and the opportunities offered to young people through a platform like MUZA. “MUZA Podcast” aims to document and share the stories of those who inspire and build the culture of the future.
URL:https://oneconnecthub.al/event/muza-podcast-4/
CATEGORIES:Third Parties
ATTACH;FMTTYPE=image/jpeg:https://oneconnecthub.al/wp-content/uploads/2025/06/podcast-muza-mm-1-scaled.jpg
END:VEVENT
BEGIN:VEVENT
DTSTART;TZID=Europe/Paris:20250625T100000
DTEND;TZID=Europe/Paris:20250625T130000
DTSTAMP:20260426T040200
CREATED:20250610T145648Z
LAST-MODIFIED:20260217T145105Z
UID:2569-1750845600-1750856400@oneconnecthub.al
SUMMARY:Muza Podcast
DESCRIPTION:* “MUZA Podcast” – një hapësirë e dedikuar për të reflektuar mbi rolin e artit\, krijimtarisë dhe edukimit estetik tek të rinjtë. Përmes bisedave me finalistë\, mentorë\, artistë\, personalitete të industrisë krijuese dhe partnerë\, ky podcast sjell perspektiva të ndryshme mbi zhvillimin personal\, fuqizimin e të rinjve dhe ndikimin që arti mund të ketë në shoqëri. \nÇdo episod është një ftesë për të kuptuar më thellë procesin krijues\, sfidat dhe mundësitë që u ofrohen të rinjve përmes një platforme si MUZA. “MUZA Podcast” synon të dokumentojë dhe ndajë historitë e atyre që frymëzojnë dhe ndërtojnë kulturën e së ardhmes. \n* “MUZA Podcast” – a dedicated space to reflect on the role of art\, creativity\, and aesthetic education among youth. Through conversations with finalists\, mentors\, artists\, creative industry personalities\, and partners\, this podcast brings diverse perspectives on personal development\, youth empowerment\, and the impact art can have on society. \nEach episode is an invitation to deeply understand the creative process\, the challenges\, and the opportunities offered to young people through a platform like MUZA. “MUZA Podcast” aims to document and share the stories of those who inspire and build the culture of the future.
URL:https://oneconnecthub.al/event/muza-podcast-5/
CATEGORIES:Third Parties
ATTACH;FMTTYPE=image/jpeg:https://oneconnecthub.al/wp-content/uploads/2025/06/podcast-muza-mm-1-scaled.jpg
END:VEVENT
BEGIN:VEVENT
DTSTART;TZID=Europe/Paris:20250625T170000
DTEND;TZID=Europe/Paris:20250625T190000
DTSTAMP:20260426T040200
CREATED:20250623T114353Z
LAST-MODIFIED:20260217T145038Z
UID:2576-1750870800-1750878000@oneconnecthub.al
SUMMARY:Product Launch - Holos Health
DESCRIPTION:* Pacientët shqiptarë tani mund të marrin konsulta nga mjekë të huaj me eksperiencë në Europë brenda 24 orëve\, lehtësisht nga celulari ose kompjuteri. Kjo shmang udhëtimet jashtë vendit dhe ofron mbështetje të specializuar për zonat ku mungesa e specialistëve\, sidomos në rajonet rurale\, është më e ndjeshme — duke përmirësuar ndjeshëm cilësinë e kujdesit shëndetësor dhe rritur sigurinë për pacientët\, mjekët dhe qendrat shëndetësore në gjithë Shqipërinë. \n* Albanian patients can now receive consultations from experienced foreign doctors in Europe within 24 hours\, easily from their mobile phones or computers. This eliminates the need for travel abroad and offers specialized support for areas where the shortage of specialists\, especially in rural regions\, is most acute—significantly improving the quality of healthcare and increasing safety for patients\, doctors\, and health centers throughout Albania.
URL:https://oneconnecthub.al/event/product-launch-holos-health-2/
CATEGORIES:Third Parties
ATTACH;FMTTYPE=image/jpeg:https://oneconnecthub.al/wp-content/uploads/2025/06/Poster-Holos-Health-1304x452-mm-scaled.jpg
END:VEVENT
BEGIN:VEVENT
DTSTART;TZID=Europe/Paris:20250626T100000
DTEND;TZID=Europe/Paris:20250626T130000
DTSTAMP:20260426T040200
CREATED:20250610T145758Z
LAST-MODIFIED:20260217T145012Z
UID:2571-1750932000-1750942800@oneconnecthub.al
SUMMARY:Muza Podcast
DESCRIPTION:* “MUZA Podcast” – një hapësirë e dedikuar për të reflektuar mbi rolin e artit\, krijimtarisë dhe edukimit estetik tek të rinjtë. Përmes bisedave me finalistë\, mentorë\, artistë\, personalitete të industrisë krijuese dhe partnerë\, ky podcast sjell perspektiva të ndryshme mbi zhvillimin personal\, fuqizimin e të rinjve dhe ndikimin që arti mund të ketë në shoqëri. \nÇdo episod është një ftesë për të kuptuar më thellë procesin krijues\, sfidat dhe mundësitë që u ofrohen të rinjve përmes një platforme si MUZA. “MUZA Podcast” synon të dokumentojë dhe ndajë historitë e atyre që frymëzojnë dhe ndërtojnë kulturën e së ardhmes. \n* “MUZA Podcast” – a dedicated space to reflect on the role of art\, creativity\, and aesthetic education among youth. Through conversations with finalists\, mentors\, artists\, creative industry personalities\, and partners\, this podcast brings diverse perspectives on personal development\, youth empowerment\, and the impact art can have on society. \nEach episode is an invitation to deeply understand the creative process\, the challenges\, and the opportunities offered to young people through a platform like MUZA. “MUZA Podcast” aims to document and share the stories of those who inspire and build the culture of the future.
URL:https://oneconnecthub.al/event/muza-podcast-6/
CATEGORIES:Third Parties
ATTACH;FMTTYPE=image/jpeg:https://oneconnecthub.al/wp-content/uploads/2025/06/podcast-muza-mm-1-scaled.jpg
END:VEVENT
BEGIN:VEVENT
DTSTART;TZID=Europe/Paris:20250630T180000
DTEND;TZID=Europe/Paris:20250630T193000
DTSTAMP:20260426T040200
CREATED:20250623T132200Z
LAST-MODIFIED:20260217T144931Z
UID:2581-1751306400-1751311800@oneconnecthub.al
SUMMARY:Product Launch - Stampisti.al
DESCRIPTION:* Në edicionin e pestë të Product Launch\, radhën për t’u prezantuar e ka një startup që sjell ngjyra\, kreativitet dhe shpirt në botën e produkteve promocionale. Quhet Stampisti.al\, një platformë e re online që i jep jetë çdo ideje përmes personalizimit\, dhe që ka lindur nga pasioni i një vajze të re për të bërë çdo dhuratë më kuptimplotë. Pas këtij projekti që po fiton gjithnjë e më shumë vëmendje\, qëndron Elena Velaj\, një e re që ka zgjedhur të ndërtojë një biznes me shpirt\, jo thjesht një dyqan online. Për të\, Stampisti nuk është thjesht një faqe ku porosit bluza apo filxhanë me dizajnin tënd\, është një mënyrë për të treguar historinë tënde\, për të surprizuar dikë që do\, apo për të bërë brandin tënd të dallohet me stil dhe dashuri. \n* In the fifth edition of Product Launch\, it is the turn of a startup that brings color\, creativity\, and soul to the world of promotional products to be presented. It is called Stampisti.al\, a new online platform that brings every idea to life through personalization\, born from a young woman’s passion for making every gift more meaningful.\nBehind this project\, which is gaining more and more attention\, is Elena Velaj—a young entrepreneur who has chosen to build a business with a soul\, not just an online store. For her\, Stampisti is not simply a site where you order t-shirts or mugs with your design; it is a way to tell your story\, to surprise someone you love\, or to make your brand stand out with style and care.
URL:https://oneconnecthub.al/event/product-launch-stampisti-al/
CATEGORIES:Third Parties
ATTACH;FMTTYPE=image/jpeg:https://oneconnecthub.al/wp-content/uploads/2025/06/WhatsApp-Image-2025-06-23-at-3.30.40-PM.jpeg
END:VEVENT
END:VCALENDAR