BEGIN:VCALENDAR
VERSION:2.0
PRODID:-//One Connect Hub - ECPv6.9.0//NONSGML v1.0//EN
CALSCALE:GREGORIAN
METHOD:PUBLISH
X-ORIGINAL-URL:https://oneconnecthub.al
X-WR-CALDESC:Events for One Connect Hub
REFRESH-INTERVAL;VALUE=DURATION:PT1H
X-Robots-Tag:noindex
X-PUBLISHED-TTL:PT1H
BEGIN:VTIMEZONE
TZID:Europe/Paris
BEGIN:DAYLIGHT
TZOFFSETFROM:+0100
TZOFFSETTO:+0200
TZNAME:CEST
DTSTART:20250330T010000
END:DAYLIGHT
BEGIN:STANDARD
TZOFFSETFROM:+0200
TZOFFSETTO:+0100
TZNAME:CET
DTSTART:20251026T010000
END:STANDARD
END:VTIMEZONE
BEGIN:VEVENT
DTSTART;TZID=Europe/Paris:20251204T180000
DTEND;TZID=Europe/Paris:20251204T200000
DTSTAMP:20260425T135537
CREATED:20251126T092207Z
LAST-MODIFIED:20260219T102033Z
UID:2699-1764871200-1764878400@oneconnecthub.al
SUMMARY:Bytes & Books Forum
DESCRIPTION:* “Bytes & Books” rikthehet sërish! \nKëtë herë me një diskutim mbi një nga librat më të rëndësishëm dhe më urgjent të viteve të fundit – “Brezi i Ankthit” nga Jonathan Haidt \nNjë thirrje e fortë për të reflektuar mbi përdorimin e smartphone-ave në shkolla dhe ndikimin e tyre tek të rinjtë.\nNjë libër që duhet lexuar nga çdo prind\, mësues\, profesionist i edukimit dhe kushdo që beson se mirëqenia e brezit të ardhshëm është më e rëndësishme se çdo trend teknologjik. \n“Bytes & Books” – aty ku librat takohen me teknologjinë dhe diskutimet që na bëjnë të mendojmë më thellë. \n* “Bytes & Books” is back! \nThis time\, we are diving into one of the most significant and urgent books of recent years: “The Anxious Generation” by Jonathan Haidt. \nA powerful call to reflect on smartphone use in schools and its impact on the youth. This is a must-read for every parent\, teacher\, education professional\, and anyone who believes that the well-being of the next generation outweighs any technological trend. \n“Bytes & Books” — where literature meets technology and discussions that challenge us to think deeper.
URL:https://oneconnecthub.al/event/bytes-and-books/
CATEGORIES:Third Parties
ATTACH;FMTTYPE=image/png:https://oneconnecthub.al/wp-content/uploads/2025/11/bytes-and-books-one-1.png
END:VEVENT
BEGIN:VEVENT
DTSTART;TZID=Europe/Paris:20251206T090000
DTEND;TZID=Europe/Paris:20251206T180000
DTSTAMP:20260425T135537
CREATED:20251205T151650Z
LAST-MODIFIED:20260217T142601Z
UID:2703-1765011600-1765044000@oneconnecthub.al
SUMMARY:Dentistry Lesson Day
DESCRIPTION:* Zhvillim leksioni dhe trajnim\, pjese e kurrikules se Masterit te Nivelit te Dyte te organizuar ne bashkepunim me Universitetin Italian UniCamillus International Medical University ne Rome. Ne kete Master realizohen leksione per mjeket stomatologe shqiptare per teknologjite\, teknikat dhe materialet me te reja dhe inovacionet ne dentistri\, kirurgji orale\, implantologji e protetike dentare.  \n* Lecture development and training\, part of the Second-Level Master’s curriculum organized in collaboration with the Italian University UniCamillus International Medical University in Rome. This Master’s program features lectures for Albanian dental surgeons on the latest technologies\, techniques\, and materials\, as well as innovations in dentistry\, oral surgery\, implantology\, and dental prosthetics.
URL:https://oneconnecthub.al/event/dentistry-lesson-day/
CATEGORIES:Third Parties
END:VEVENT
BEGIN:VEVENT
DTSTART;TZID=Europe/Paris:20251211T170000
DTEND;TZID=Europe/Paris:20251211T190000
DTSTAMP:20260425T135537
CREATED:20251210T085715Z
LAST-MODIFIED:20260217T142606Z
UID:2707-1765472400-1765479600@oneconnecthub.al
SUMMARY:Product Launch - Kungul Approved
DESCRIPTION:* Nëse edhe ti beson në një jetë të shëndetshme\, na u bashko më 11 dhjetor në lancimin e të vetmes platforme ku gjen produkte të sigurta\, të verifikuara dhe të analizuara në çdo përbërës nga aplikacioni Kungul >>> KungulApproved.com. \nE krijuam sepse shumë prej jush na kërkuat një vend të besueshëm për zgjedhje të pastra për veten dhe familjen. \nJu presim te Kubi One Connect Hub – Piramida\, nga ora 17:30–20:00\, në një event të hapur me degustime\, muzikë dhe dhurata të kuruara me filozofinë Kungul. \n* If you also believe in a healthy lifestyle\, join us on December 11th for the launch of the only platform where you can find safe\, verified products—each ingredient analyzed by the Kungul app >>> KungulApproved.com. \nWe created this because so many of you asked for a trustworthy place to find clean choices for yourselves and your families. \nWe look forward to seeing you at Kubi One Connect Hub – Pyramid\, from 5:30 PM to 8:00 PM\, for an open event featuring tastings\, music\, and gifts curated with the Kungul philosophy.
URL:https://oneconnecthub.al/event/product-launch-kungul-approved/
CATEGORIES:Third Parties
ATTACH;FMTTYPE=image/jpeg:https://oneconnecthub.al/wp-content/uploads/2025/12/Copy-of-Kungul-Postimet-test-erblina-1304-x-452-px-scaled.jpg
END:VEVENT
BEGIN:VEVENT
DTSTART;TZID=Europe/Paris:20251217T170000
DTEND;TZID=Europe/Paris:20251217T190000
DTSTAMP:20260425T135537
CREATED:20251217T134839Z
LAST-MODIFIED:20260217T142425Z
UID:2717-1765990800-1765998000@oneconnecthub.al
SUMMARY:Product Launch - Trizomed
DESCRIPTION:* TrizoMed është një platformë inteligjente për menaxhimin e të dhënave të pacientëve\, e krijuar për klinika\, spitale dhe qendra të kujdesit shëndetësor që duan të dixhitalizojnë proceset e tyre. Sistemi ofron menaxhim të diagnozave\, dosjeve mjekësore\, vizitave\, historikut të trajtimeve dhe analizave\, duke eliminuar letrat dhe duke rritur efikasitetin e stafit mjekësor. Me një dizajn modern\, siguri të lartë dhe funksione të personalizuara\, TrizoMed u mundëson institucioneve shëndetësore të punojnë më shpejt\, më saktë dhe me një përvojë më të mirë për pacientët. \n* TrizoMed is an intelligent patient data management platform\, designed for clinics\, hospitals\, and healthcare centers looking to digitize their processes. The system offers management of diagnoses\, medical records\, appointments\, treatment history\, and laboratory results—eliminating paperwork and boosting the efficiency of medical staff. With a modern design\, high security\, and customized features\, TrizoMed enables healthcare institutions to work faster and more accurately\, while providing a superior experience for patients.
URL:https://oneconnecthub.al/event/product-launch-trizomed/
CATEGORIES:Third Parties
ATTACH;FMTTYPE=image/png:https://oneconnecthub.al/wp-content/uploads/2025/12/eventi-sot.png
END:VEVENT
BEGIN:VEVENT
DTSTART;TZID=Europe/Paris:20251218T173000
DTEND;TZID=Europe/Paris:20251218T193000
DTSTAMP:20260425T135537
CREATED:20251217T135036Z
LAST-MODIFIED:20260217T142127Z
UID:2720-1766079000-1766086200@oneconnecthub.al
SUMMARY:AI in Research & Professional Work
DESCRIPTION:* Këtu është përkthimi në shqip\, i përshtatur për të qenë sa më goditës dhe profesional: \nNjë workshop interaktiv mbi përdorimin efektiv të AI në proceset reale të punës — i fokusuar në praktikë\, jo në teori.\nMësoni si funksionon vërtet Inteligjenca Artificiale\, si të shkruani “prompte” më të mira dhe si ta integroni AI-në në punën tuaj të përditshme.\nFirdeus Kasaj\, CEO & Themelues i UnyoCorp & Yume\nPërfshin një demonstrim “live” të Yume\, duke shfaqur automatizimin e aplikuar të AI.\nUshtrime praktike. Raste reale përdorimi. Aftësi praktike.\nNuk kërkohet njohuri teknike — mjafton kurioziteti. \n* An interactive workshop on using AI effectively in real-life workflows — focused on practice\, not theory.\nLearn how AI really works\, how to write better prompts\, and how to integrate AI into daily work.\nFirdeus Kasaj\, CEO & Founder of UnyoCorp & Yume\nFeaturing a live Yume demo\, showcasing applied AI automation.\nHands-on exercises. Real use cases. Practical skills.\nNo tech background required — just curiosity.
URL:https://oneconnecthub.al/event/%f0%9f%9a%80-ai-in-research-professional-work/
CATEGORIES:Third Parties
ATTACH;FMTTYPE=image/png:https://oneconnecthub.al/wp-content/uploads/2025/12/AI-Its-Profesional-Use-Banner-1.png
END:VEVENT
BEGIN:VEVENT
DTSTART;TZID=Europe/Paris:20251220T090000
DTEND;TZID=Europe/Paris:20251220T210000
DTSTAMP:20260425T135537
CREATED:20251217T133245Z
LAST-MODIFIED:20260217T141952Z
UID:2711-1766221200-1766264400@oneconnecthub.al
SUMMARY:Intu Healing – Manifestation Meditation Event
DESCRIPTION:* Udhëhequr nga: Enxhi Lekli\, Themeluese e Intu Healing\, Instruktore dhe Praktikuese e Theta Healing. \nKohëzgjatja: Deri në 3 orë \nTeksa viti po mbyllet\, na jepet një mundësi e fuqishme për të lënë pas atë që nuk na shërben më dhe për të mbjellë farat e asaj që duam të krijojmë në vitin 2026. Ky aktivitet i “Intu Healing” është konceptuar për t’ju ndihmuar ta mbyllni vitin me qartësi\, rreshtim (alignment) dhe energji të përtërirë. \n* Guided by: Enxhi Lekli\, Founder of Intu Healing\, Theta Healing Instructor and Practitioner  \nDuration: Up to 3 hours \nAs the year comes to a close\, we are given a powerful opportunity to release what no longer serves us and to plant the seeds for what we want to create in 2026. This Intu Healing event is designed to help you end the year with clarity\, alignment\, and renewed energy.
URL:https://oneconnecthub.al/event/intu-healing-manifestation-meditation-event/
CATEGORIES:Third Parties
ATTACH;FMTTYPE=image/png:https://oneconnecthub.al/wp-content/uploads/2025/12/Enxhi.png
END:VEVENT
BEGIN:VEVENT
DTSTART;TZID=Europe/Paris:20251226T170000
DTEND;TZID=Europe/Paris:20251226T190000
DTSTAMP:20260425T135537
CREATED:20251224T130052Z
LAST-MODIFIED:20260217T141845Z
UID:2726-1766768400-1766775600@oneconnecthub.al
SUMMARY:Freelancer's Community Meeting
DESCRIPTION:* Ky aktivitet është një takim i strukturuar profesional për freelancerët dhe profesionistët e pavarur të fokusuar në trendet dhe mundësitë që formësojnë vitin 2026. \nProgrami fillon me prezantime të shkurtra për të krijuar kontekstin dhe për të siguruar një fillim të organizuar mirë. Pastaj ofrojmë një segment të shkurtër “kush jemi” për të sqaruar qëllimin e mbledhjes dhe profilet e pjesëmarrësve. Sesioni vazhdon me “LinkedIn 2026”\, duke ofruar një pasqyrë praktike të platformës së ardhshme dhe dinamikës së tregut që lidhet me dukshmërinë\, besueshmërinë dhe zhvillimin e biznesit. \nMë pas\, “Freelancers 2026” zgjeron diskutimin në ndryshime më të gjera në industri\, pritjet e klientëve\, si dhe aftësitë dhe strategjitë e pozicionimit që do të përcaktojnë avantazhin konkurrues në vitin e ardhshëm. Eventi përfundon me një segment diskutimi të hapur dhe rrjetëzimi të hartuar për të inkurajuar shkëmbimin profesional\, të nxënit nga kolegët dhe bashkëpunimet e mundshme në një mjedis të relaksuar dhe respektues. \n* This activity is a structured professional gathering for freelancers and independent professionals\, focused on the trends and opportunities shaping 2026. \nThe program begins with brief introductions to establish context and ensure a well-organized start. We then offer a short “who we are” segment to clarify the purpose of the meeting and the profiles of the participants. The session continues with “LinkedIn 2026\,” providing a practical overview of the platform’s future and market dynamics related to visibility\, credibility\, and business development. \nFollowing this\, “Freelancers 2026” expands the discussion to broader industry shifts\, client expectations\, and the skills and positioning strategies that will define a competitive edge in the coming year. The event concludes with an open discussion and networking segment designed to encourage professional exchange\, peer learning\, and potential collaborations in a relaxed and respectful environment.
URL:https://oneconnecthub.al/event/freelancers-community-meeting/
CATEGORIES:Third Parties
ATTACH;FMTTYPE=image/jpeg:https://oneconnecthub.al/wp-content/uploads/2025/12/posterOneconnectHub_web-scaled.jpg
END:VEVENT
END:VCALENDAR