BEGIN:VCALENDAR
VERSION:2.0
PRODID:-//One Connect Hub - ECPv6.9.0//NONSGML v1.0//EN
CALSCALE:GREGORIAN
METHOD:PUBLISH
X-ORIGINAL-URL:https://oneconnecthub.al
X-WR-CALDESC:Events for One Connect Hub
REFRESH-INTERVAL;VALUE=DURATION:PT1H
X-Robots-Tag:noindex
X-PUBLISHED-TTL:PT1H
BEGIN:VTIMEZONE
TZID:Europe/Paris
BEGIN:DAYLIGHT
TZOFFSETFROM:+0100
TZOFFSETTO:+0200
TZNAME:CEST
DTSTART:20250330T010000
END:DAYLIGHT
BEGIN:STANDARD
TZOFFSETFROM:+0200
TZOFFSETTO:+0100
TZNAME:CET
DTSTART:20251026T010000
END:STANDARD
END:VTIMEZONE
BEGIN:VEVENT
DTSTART;TZID=Europe/Paris:20250604T180000
DTEND;TZID=Europe/Paris:20250604T200000
DTSTAMP:20260426T053533
CREATED:20250520T122857Z
LAST-MODIFIED:20260219T102200Z
UID:2537-1749060000-1749067200@oneconnecthub.al
SUMMARY:Bytes & Books Forum
DESCRIPTION:* Në takimin e radhës do të diskutojmë librin “Loja” nga Alessandro Baricco\, një reflektim magjepsës mbi mënyrën si teknologjia ka ndryshuar jo vetëm sjelljen tonë\, por edhe vetë natyrën njerëzore. \n* In the next meeting\, we will discuss the book “The Game” by Alessandro Baricco—a fascinating reflection on how technology has changed not only our behavior but human nature itself.
URL:https://oneconnecthub.al/event/bytesbooks-4/
CATEGORIES:Third Parties
ATTACH;FMTTYPE=image/png:https://oneconnecthub.al/wp-content/uploads/2025/05/bbb4.png
END:VEVENT
END:VCALENDAR