BEGIN:VCALENDAR
VERSION:2.0
PRODID:-//One Connect Hub - ECPv6.9.0//NONSGML v1.0//EN
CALSCALE:GREGORIAN
METHOD:PUBLISH
X-WR-CALNAME:One Connect Hub
X-ORIGINAL-URL:https://oneconnecthub.al
X-WR-CALDESC:Events for One Connect Hub
REFRESH-INTERVAL;VALUE=DURATION:PT1H
X-Robots-Tag:noindex
X-PUBLISHED-TTL:PT1H
BEGIN:VTIMEZONE
TZID:Europe/Paris
BEGIN:DAYLIGHT
TZOFFSETFROM:+0100
TZOFFSETTO:+0200
TZNAME:CEST
DTSTART:20250330T010000
END:DAYLIGHT
BEGIN:STANDARD
TZOFFSETFROM:+0200
TZOFFSETTO:+0100
TZNAME:CET
DTSTART:20251026T010000
END:STANDARD
END:VTIMEZONE
BEGIN:VEVENT
DTSTART;TZID=Europe/Paris:20250611T180000
DTEND;TZID=Europe/Paris:20250611T200000
DTSTAMP:20260426T054155
CREATED:20250605T135137Z
LAST-MODIFIED:20260217T145300Z
UID:2552-1749664800-1749672000@oneconnecthub.al
SUMMARY:Young People and Job Opportunities - LDA Europe
DESCRIPTION:* Në kuadër të projektit NURTURE – Erasmus+\, kemi kënaqësinë t’ju ftojmë të merrni pjesë në eventin “Young People and Job Opportunities”\, që do të zhvillohet:\nData: 11 Qershor  2025\nEventi ka si qëllim të trajtojë mundësitë e punësimit për të rinjtë nëpërmjet dy paneleve diskutimi. \n* In the framework of the NURTURE – Erasmus+ project\, we are pleased to invite you to participate in the event “Young People and Job Opportunities\,” which will take place on:\nDate: June 11\, 2025\nThe event aims to address employment opportunities for youth through two discussion panels.
URL:https://oneconnecthub.al/event/young-people-and-job-opportunities-lda-europe/
CATEGORIES:Third Parties
ATTACH;FMTTYPE=image/jpeg:https://oneconnecthub.al/wp-content/uploads/2025/06/WhatsApp-Image-2025-06-03-at-4.49.33-PM.jpeg
END:VEVENT
END:VCALENDAR