BEGIN:VCALENDAR
VERSION:2.0
PRODID:-//One Connect Hub - ECPv6.9.0//NONSGML v1.0//EN
CALSCALE:GREGORIAN
METHOD:PUBLISH
X-WR-CALNAME:One Connect Hub
X-ORIGINAL-URL:https://oneconnecthub.al
X-WR-CALDESC:Events for One Connect Hub
REFRESH-INTERVAL;VALUE=DURATION:PT1H
X-Robots-Tag:noindex
X-PUBLISHED-TTL:PT1H
BEGIN:VTIMEZONE
TZID:Europe/Paris
BEGIN:DAYLIGHT
TZOFFSETFROM:+0100
TZOFFSETTO:+0200
TZNAME:CEST
DTSTART:20250330T010000
END:DAYLIGHT
BEGIN:STANDARD
TZOFFSETFROM:+0200
TZOFFSETTO:+0100
TZNAME:CET
DTSTART:20251026T010000
END:STANDARD
END:VTIMEZONE
BEGIN:VEVENT
DTSTART;TZID=Europe/Paris:20250625T100000
DTEND;TZID=Europe/Paris:20250625T130000
DTSTAMP:20260426T053440
CREATED:20250610T145648Z
LAST-MODIFIED:20260217T145105Z
UID:2569-1750845600-1750856400@oneconnecthub.al
SUMMARY:Muza Podcast
DESCRIPTION:* “MUZA Podcast” – një hapësirë e dedikuar për të reflektuar mbi rolin e artit\, krijimtarisë dhe edukimit estetik tek të rinjtë. Përmes bisedave me finalistë\, mentorë\, artistë\, personalitete të industrisë krijuese dhe partnerë\, ky podcast sjell perspektiva të ndryshme mbi zhvillimin personal\, fuqizimin e të rinjve dhe ndikimin që arti mund të ketë në shoqëri. \nÇdo episod është një ftesë për të kuptuar më thellë procesin krijues\, sfidat dhe mundësitë që u ofrohen të rinjve përmes një platforme si MUZA. “MUZA Podcast” synon të dokumentojë dhe ndajë historitë e atyre që frymëzojnë dhe ndërtojnë kulturën e së ardhmes. \n* “MUZA Podcast” – a dedicated space to reflect on the role of art\, creativity\, and aesthetic education among youth. Through conversations with finalists\, mentors\, artists\, creative industry personalities\, and partners\, this podcast brings diverse perspectives on personal development\, youth empowerment\, and the impact art can have on society. \nEach episode is an invitation to deeply understand the creative process\, the challenges\, and the opportunities offered to young people through a platform like MUZA. “MUZA Podcast” aims to document and share the stories of those who inspire and build the culture of the future.
URL:https://oneconnecthub.al/event/muza-podcast-5/
CATEGORIES:Third Parties
ATTACH;FMTTYPE=image/jpeg:https://oneconnecthub.al/wp-content/uploads/2025/06/podcast-muza-mm-1-scaled.jpg
END:VEVENT
BEGIN:VEVENT
DTSTART;TZID=Europe/Paris:20250625T170000
DTEND;TZID=Europe/Paris:20250625T190000
DTSTAMP:20260426T053440
CREATED:20250623T114353Z
LAST-MODIFIED:20260217T145038Z
UID:2576-1750870800-1750878000@oneconnecthub.al
SUMMARY:Product Launch - Holos Health
DESCRIPTION:* Pacientët shqiptarë tani mund të marrin konsulta nga mjekë të huaj me eksperiencë në Europë brenda 24 orëve\, lehtësisht nga celulari ose kompjuteri. Kjo shmang udhëtimet jashtë vendit dhe ofron mbështetje të specializuar për zonat ku mungesa e specialistëve\, sidomos në rajonet rurale\, është më e ndjeshme — duke përmirësuar ndjeshëm cilësinë e kujdesit shëndetësor dhe rritur sigurinë për pacientët\, mjekët dhe qendrat shëndetësore në gjithë Shqipërinë. \n* Albanian patients can now receive consultations from experienced foreign doctors in Europe within 24 hours\, easily from their mobile phones or computers. This eliminates the need for travel abroad and offers specialized support for areas where the shortage of specialists\, especially in rural regions\, is most acute—significantly improving the quality of healthcare and increasing safety for patients\, doctors\, and health centers throughout Albania.
URL:https://oneconnecthub.al/event/product-launch-holos-health-2/
CATEGORIES:Third Parties
ATTACH;FMTTYPE=image/jpeg:https://oneconnecthub.al/wp-content/uploads/2025/06/Poster-Holos-Health-1304x452-mm-scaled.jpg
END:VEVENT
END:VCALENDAR