BEGIN:VCALENDAR
VERSION:2.0
PRODID:-//One Connect Hub - ECPv6.9.0//NONSGML v1.0//EN
CALSCALE:GREGORIAN
METHOD:PUBLISH
X-ORIGINAL-URL:https://oneconnecthub.al
X-WR-CALDESC:Events for One Connect Hub
REFRESH-INTERVAL;VALUE=DURATION:PT1H
X-Robots-Tag:noindex
X-PUBLISHED-TTL:PT1H
BEGIN:VTIMEZONE
TZID:Europe/Paris
BEGIN:DAYLIGHT
TZOFFSETFROM:+0100
TZOFFSETTO:+0200
TZNAME:CEST
DTSTART:20250330T010000
END:DAYLIGHT
BEGIN:STANDARD
TZOFFSETFROM:+0200
TZOFFSETTO:+0100
TZNAME:CET
DTSTART:20251026T010000
END:STANDARD
END:VTIMEZONE
BEGIN:VEVENT
DTSTART;TZID=Europe/Paris:20250630T180000
DTEND;TZID=Europe/Paris:20250630T193000
DTSTAMP:20260426T041122
CREATED:20250623T132200Z
LAST-MODIFIED:20260217T144931Z
UID:2581-1751306400-1751311800@oneconnecthub.al
SUMMARY:Product Launch - Stampisti.al
DESCRIPTION:* Në edicionin e pestë të Product Launch\, radhën për t’u prezantuar e ka një startup që sjell ngjyra\, kreativitet dhe shpirt në botën e produkteve promocionale. Quhet Stampisti.al\, një platformë e re online që i jep jetë çdo ideje përmes personalizimit\, dhe që ka lindur nga pasioni i një vajze të re për të bërë çdo dhuratë më kuptimplotë. Pas këtij projekti që po fiton gjithnjë e më shumë vëmendje\, qëndron Elena Velaj\, një e re që ka zgjedhur të ndërtojë një biznes me shpirt\, jo thjesht një dyqan online. Për të\, Stampisti nuk është thjesht një faqe ku porosit bluza apo filxhanë me dizajnin tënd\, është një mënyrë për të treguar historinë tënde\, për të surprizuar dikë që do\, apo për të bërë brandin tënd të dallohet me stil dhe dashuri. \n* In the fifth edition of Product Launch\, it is the turn of a startup that brings color\, creativity\, and soul to the world of promotional products to be presented. It is called Stampisti.al\, a new online platform that brings every idea to life through personalization\, born from a young woman’s passion for making every gift more meaningful.\nBehind this project\, which is gaining more and more attention\, is Elena Velaj—a young entrepreneur who has chosen to build a business with a soul\, not just an online store. For her\, Stampisti is not simply a site where you order t-shirts or mugs with your design; it is a way to tell your story\, to surprise someone you love\, or to make your brand stand out with style and care.
URL:https://oneconnecthub.al/event/product-launch-stampisti-al/
CATEGORIES:Third Parties
ATTACH;FMTTYPE=image/jpeg:https://oneconnecthub.al/wp-content/uploads/2025/06/WhatsApp-Image-2025-06-23-at-3.30.40-PM.jpeg
END:VEVENT
END:VCALENDAR