BEGIN:VCALENDAR
VERSION:2.0
PRODID:-//One Connect Hub - ECPv6.9.0//NONSGML v1.0//EN
CALSCALE:GREGORIAN
METHOD:PUBLISH
X-WR-CALNAME:One Connect Hub
X-ORIGINAL-URL:https://oneconnecthub.al
X-WR-CALDESC:Events for One Connect Hub
REFRESH-INTERVAL;VALUE=DURATION:PT1H
X-Robots-Tag:noindex
X-PUBLISHED-TTL:PT1H
BEGIN:VTIMEZONE
TZID:Europe/Paris
BEGIN:DAYLIGHT
TZOFFSETFROM:+0100
TZOFFSETTO:+0200
TZNAME:CEST
DTSTART:20250330T010000
END:DAYLIGHT
BEGIN:STANDARD
TZOFFSETFROM:+0200
TZOFFSETTO:+0100
TZNAME:CET
DTSTART:20251026T010000
END:STANDARD
END:VTIMEZONE
BEGIN:VEVENT
DTSTART;TZID=Europe/Paris:20250703T100000
DTEND;TZID=Europe/Paris:20250703T110000
DTSTAMP:20260426T041008
CREATED:20250630T140201Z
LAST-MODIFIED:20260217T144859Z
UID:2586-1751536800-1751540400@oneconnecthub.al
SUMMARY:Awareness Activity
DESCRIPTION:* Më 3 korrik në Tiranë\, vjen një tjetër ndalesë e veçantë e takimeve ndërgjegjësuese të Autoritetit Kombëtar për Sigurinë Kibernetike\, me një fokus të veçantë tek përfshirja dhe fuqizimi i grupeve të nënpërfaqësuara. Në qendër të këtij aktiviteti janë qytetarët që shpesh mbeten jashtë hapësirave të informacionit digjital\, të cilëve AKSK\, në bashkëpunim me shoqatën MEDPAK\, me mbështetjen e One Albania\, si edhe me ndihmën e “Ambasadorit” të këtyre grupeve\, Luanit\, po u jep zë\, mbështetje dhe dije praktike. Ky sesion është shumë më tepër se një trajnim\, është një takim i drejtpërdrejtë me përfaqësues të komuniteteve të ndryshme\, ku flitet për rreziqet në internet\, mashtrimet digjitale\,  mbrojtjen e të dhënave dhe për mënyrat konkrete si të lundrosh i sigurt në botën online. Me një gjuhë të kuptueshme dhe një qasje miqësore\, ky aktivitet synon të sjellë më afër çdo qytetar me sigurinë kibernetike\, duke ndërtuar hap pas hapi një kulturë përfshirëse dhe të qëndrueshme mbrojtjeje në hapësirën digjitale shqiptare. \n* On July 3rd in Tirana\, another special stop of the awareness meetings by the National Authority for Cyber Security (AKSK) arrives\, with a specific focus on the inclusion and empowerment of underrepresented groups. At the heart of this activity are the citizens who often remain outside the digital information spaces\, to whom AKSK—in collaboration with the MEDPAK association\, with the support of One Albania\, and the help of the “Ambassador” of these groups\, Luani—is giving a voice\, support\, and practical knowledge.\nThis session is much more than a training; it is a direct meeting with representatives of various communities\, discussing online risks\, digital scams\, data protection\, and concrete ways to navigate the online world safely. Using understandable language and a friendly approach\, this activity aims to bring every citizen closer to cyber security\, building step-by-step an inclusive and sustainable culture of protection in the Albanian digital space.
URL:https://oneconnecthub.al/event/aktivitetet-ndergjegjesues/
CATEGORIES:Third Parties
END:VEVENT
END:VCALENDAR