BEGIN:VCALENDAR
VERSION:2.0
PRODID:-//One Connect Hub - ECPv6.9.0//NONSGML v1.0//EN
CALSCALE:GREGORIAN
METHOD:PUBLISH
X-ORIGINAL-URL:https://oneconnecthub.al
X-WR-CALDESC:Events for One Connect Hub
REFRESH-INTERVAL;VALUE=DURATION:PT1H
X-Robots-Tag:noindex
X-PUBLISHED-TTL:PT1H
BEGIN:VTIMEZONE
TZID:Europe/Paris
BEGIN:DAYLIGHT
TZOFFSETFROM:+0100
TZOFFSETTO:+0200
TZNAME:CEST
DTSTART:20250330T010000
END:DAYLIGHT
BEGIN:STANDARD
TZOFFSETFROM:+0200
TZOFFSETTO:+0100
TZNAME:CET
DTSTART:20251026T010000
END:STANDARD
END:VTIMEZONE
BEGIN:VEVENT
DTSTART;TZID=Europe/Paris:20250709T180000
DTEND;TZID=Europe/Paris:20250709T200000
DTSTAMP:20260426T041213
CREATED:20250623T115039Z
LAST-MODIFIED:20260219T102137Z
UID:2578-1752084000-1752091200@oneconnecthub.al
SUMMARY:Bytes & Books Forum
DESCRIPTION:* Libri i radhës që do diskutohet është “Lufta për Çipin” nga Chris Miller – një tregim mbresëlënës mbi garën globale për kontrollin e teknologjisë më të rëndësishme të kohës sonë: mikroçipet. Nga SHBA në Kinë\, nga politika te ekonomia\, ky libër na ndihmon të kuptojmë pse çipet janë në qendër të botës moderne. \n* The next book to be discussed is “Chip War” by Chris Miller – a compelling narrative on the global race for control over the most important technology of our time: microchips. From the US to China\, from politics to economics\, this book helps us understand why chips are at the center of the modern world.
URL:https://oneconnecthub.al/event/bytes-and-books-5/
CATEGORIES:Third Parties
ATTACH;FMTTYPE=image/jpeg:https://oneconnecthub.al/wp-content/uploads/2025/06/WhatsApp-Image-2025-06-19-at-2.45.10-PM.jpeg
END:VEVENT
END:VCALENDAR