BEGIN:VCALENDAR
VERSION:2.0
PRODID:-//One Connect Hub - ECPv6.9.0//NONSGML v1.0//EN
CALSCALE:GREGORIAN
METHOD:PUBLISH
X-ORIGINAL-URL:https://oneconnecthub.al
X-WR-CALDESC:Events for One Connect Hub
REFRESH-INTERVAL;VALUE=DURATION:PT1H
X-Robots-Tag:noindex
X-PUBLISHED-TTL:PT1H
BEGIN:VTIMEZONE
TZID:Europe/Paris
BEGIN:DAYLIGHT
TZOFFSETFROM:+0100
TZOFFSETTO:+0200
TZNAME:CEST
DTSTART:20250330T010000
END:DAYLIGHT
BEGIN:STANDARD
TZOFFSETFROM:+0200
TZOFFSETTO:+0100
TZNAME:CET
DTSTART:20251026T010000
END:STANDARD
END:VTIMEZONE
BEGIN:VEVENT
DTSTART;TZID=Europe/Paris:20250710T170000
DTEND;TZID=Europe/Paris:20250710T190000
DTSTAMP:20260426T041145
CREATED:20250707T092934Z
LAST-MODIFIED:20260217T144715Z
UID:2588-1752166800-1752174000@oneconnecthub.al
SUMMARY:Startup Launch - InsectIntel
DESCRIPTION:* InsectIntel është një pajisje inteligjente që ndërthur parimet e natyrës me fuqinë e teknologjisë për të zbuluar dëmtuesit në kohë reale dhe për të paralajmëruar fermerët përpara se të shkaktohet dëmi.\nKjo zgjidhje inovative sjell një mënyrë të re\, të qëndrueshme dhe të automatizuar për të mbrojtur të korrat\, duke ndihmuar fermerët të marrin vendime të bazuara në të dhëna dhe jo në hamendje.\nNe po ndërtojmë një sistem paralajmërimi të hershëm që redukton humbjet\, përdorimin e pesticideve dhe pasigurinë në sektorin bujqësor. \n* InsectIntel is an intelligent device that combines the principles of nature with the power of technology to detect pests in real-time and warn farmers before damage occurs.\nThis innovative solution brings a new\, sustainable\, and automated way to protect crops\, helping farmers make decisions based on data rather than guesswork.\nWe are building an early warning system that reduces losses\, pesticide use\, and uncertainty in the agricultural sector.
URL:https://oneconnecthub.al/event/insectintel-startup-launch/
CATEGORIES:Third Parties
ATTACH;FMTTYPE=image/jpeg:https://oneconnecthub.al/wp-content/uploads/2025/07/Poster-Insectintel-1304x452-1-scaled.jpg
END:VEVENT
END:VCALENDAR