BEGIN:VCALENDAR
VERSION:2.0
PRODID:-//One Connect Hub - ECPv6.9.0//NONSGML v1.0//EN
CALSCALE:GREGORIAN
METHOD:PUBLISH
X-ORIGINAL-URL:https://oneconnecthub.al
X-WR-CALDESC:Events for One Connect Hub
REFRESH-INTERVAL;VALUE=DURATION:PT1H
X-Robots-Tag:noindex
X-PUBLISHED-TTL:PT1H
BEGIN:VTIMEZONE
TZID:Europe/Paris
BEGIN:DAYLIGHT
TZOFFSETFROM:+0100
TZOFFSETTO:+0200
TZNAME:CEST
DTSTART:20250330T010000
END:DAYLIGHT
BEGIN:STANDARD
TZOFFSETFROM:+0200
TZOFFSETTO:+0100
TZNAME:CET
DTSTART:20251026T010000
END:STANDARD
END:VTIMEZONE
BEGIN:VEVENT
DTSTART;TZID=Europe/Paris:20250909T193000
DTEND;TZID=Europe/Paris:20250909T210000
DTSTAMP:20260426T003133
CREATED:20250908T130027Z
LAST-MODIFIED:20260217T144307Z
UID:2635-1757446200-1757451600@oneconnecthub.al
SUMMARY:Leaders on Tour - CRM training
DESCRIPTION:* Ky trajnim synon të shpjegojë çfarë është CRM (Customer Relationship Management)\, si përdoret për të menaxhuar klientët dhe mundësitë e shitjes\, dhe pse është një nga mjetet më të rëndësishme për rritjen e biznesit. Do të prezantohen praktikat më të mira të përdorimit të CRM nga tregjet europiane dhe amerikane\, dhe do të diskutohet si këto mund të përshtaten për realitetin dhe mundësitë që ofron tregu shqiptar.\nFormati do të jetë praktik\, me shembuj konkretë dhe hapësirë për diskutim. \n* This training aims to explain what CRM (Customer Relationship Management) is\, how it is used to manage customers and sales opportunities\, and why it is one of the most important tools for business growth.\nThe best practices of CRM usage from European and American markets will be presented\, and it will be discussed how these can be adapted to the reality and opportunities offered by the Albanian market.\nThe format will be practical\, with concrete examples and space for discussion.
URL:https://oneconnecthub.al/event/leaders-on-tour-crm-training/
CATEGORIES:Third Parties
ATTACH;FMTTYPE=image/jpeg:https://oneconnecthub.al/wp-content/uploads/2025/09/WhatsApp-Image-2025-09-08-at-12.35.42-PM.jpeg
END:VEVENT
END:VCALENDAR