BEGIN:VCALENDAR
VERSION:2.0
PRODID:-//One Connect Hub - ECPv6.9.0//NONSGML v1.0//EN
CALSCALE:GREGORIAN
METHOD:PUBLISH
X-WR-CALNAME:One Connect Hub
X-ORIGINAL-URL:https://oneconnecthub.al
X-WR-CALDESC:Events for One Connect Hub
REFRESH-INTERVAL;VALUE=DURATION:PT1H
X-Robots-Tag:noindex
X-PUBLISHED-TTL:PT1H
BEGIN:VTIMEZONE
TZID:Europe/Paris
BEGIN:DAYLIGHT
TZOFFSETFROM:+0100
TZOFFSETTO:+0200
TZNAME:CEST
DTSTART:20250330T010000
END:DAYLIGHT
BEGIN:STANDARD
TZOFFSETFROM:+0200
TZOFFSETTO:+0100
TZNAME:CET
DTSTART:20251026T010000
END:STANDARD
END:VTIMEZONE
BEGIN:VEVENT
DTSTART;TZID=Europe/Paris:20250917T180000
DTEND;TZID=Europe/Paris:20250917T203000
DTSTAMP:20260426T002836
CREATED:20250826T093024Z
LAST-MODIFIED:20260217T144103Z
UID:2628-1758132000-1758141000@oneconnecthub.al
SUMMARY:The Great Shift Albania: Powered by The Performance Expert
DESCRIPTION:* The Performance Expert është krenar të jetë ofruesi ekskluziv shqiptar i The Great Shift — një program lider i besuar globalisht për udhëheqjen dhe transformimin\, tashmë i disponueshëm në nivel lokal. Ky partneritet strategjik sjell trajnime të provuara me ndikim të lartë për ekipet në Shqipëri\, të ofruara nga Elkjana Gjipali dhe ekipi i saj\, të certifikuar plotësisht për të lehtësuar programet e The Great Shift. Së bashku\, ne synojmë të fuqizojmë liderët\, të frymëzojmë ndryshimin dhe të përshpejtojmë rritjen në mbarë rajonin. \n* The Performance Expert is proud to be the exclusive Albanian provider of The Great Shift — a globally trusted leadership and transformation program\, now available locally. This strategic partnership brings proven\, high-impact trainings to teams in Albania\, delivered by Elkjana Gjipali and her team\, fully certified to facilitate The Great Shift programs. Together\, we aim to empower leaders\, inspire change\, and accelerate growth across the region.
URL:https://oneconnecthub.al/event/the-great-shift-albania-powered-by-the-performance-expert/
CATEGORIES:Third Parties
ATTACH;FMTTYPE=image/jpeg:https://oneconnecthub.al/wp-content/uploads/2025/08/great-shift.jpg
END:VEVENT
END:VCALENDAR