BEGIN:VCALENDAR
VERSION:2.0
PRODID:-//One Connect Hub - ECPv6.9.0//NONSGML v1.0//EN
CALSCALE:GREGORIAN
METHOD:PUBLISH
X-ORIGINAL-URL:https://oneconnecthub.al
X-WR-CALDESC:Events for One Connect Hub
REFRESH-INTERVAL;VALUE=DURATION:PT1H
X-Robots-Tag:noindex
X-PUBLISHED-TTL:PT1H
BEGIN:VTIMEZONE
TZID:Europe/Paris
BEGIN:DAYLIGHT
TZOFFSETFROM:+0100
TZOFFSETTO:+0200
TZNAME:CEST
DTSTART:20250330T010000
END:DAYLIGHT
BEGIN:STANDARD
TZOFFSETFROM:+0200
TZOFFSETTO:+0100
TZNAME:CET
DTSTART:20251026T010000
END:STANDARD
END:VTIMEZONE
BEGIN:VEVENT
DTSTART;TZID=Europe/Paris:20251003T140000
DTEND;TZID=Europe/Paris:20251004T140000
DTSTAMP:20260425T230147
CREATED:20251002T112238Z
LAST-MODIFIED:20251002T112238Z
UID:2650-1759500000-1759586400@oneconnecthub.al
SUMMARY:The Great Shift Weekend. Connect\, Transform\, Future Work
DESCRIPTION:
URL:https://oneconnecthub.al/event/the-great-shift-weekend-connect-transform-future-work/
CATEGORIES:Third Parties
ATTACH;FMTTYPE=image/jpeg:https://oneconnecthub.al/wp-content/uploads/2025/10/WhatsApp-Image-2025-10-01-at-4.57.38-PM.jpeg
END:VEVENT
END:VCALENDAR