BEGIN:VCALENDAR
VERSION:2.0
PRODID:-//One Connect Hub - ECPv6.9.0//NONSGML v1.0//EN
CALSCALE:GREGORIAN
METHOD:PUBLISH
X-WR-CALNAME:One Connect Hub
X-ORIGINAL-URL:https://oneconnecthub.al
X-WR-CALDESC:Events for One Connect Hub
REFRESH-INTERVAL;VALUE=DURATION:PT1H
X-Robots-Tag:noindex
X-PUBLISHED-TTL:PT1H
BEGIN:VTIMEZONE
TZID:Europe/Paris
BEGIN:DAYLIGHT
TZOFFSETFROM:+0100
TZOFFSETTO:+0200
TZNAME:CEST
DTSTART:20250330T010000
END:DAYLIGHT
BEGIN:STANDARD
TZOFFSETFROM:+0200
TZOFFSETTO:+0100
TZNAME:CET
DTSTART:20251026T010000
END:STANDARD
END:VTIMEZONE
BEGIN:VEVENT
DTSTART;TZID=Europe/Paris:20251028T170000
DTEND;TZID=Europe/Paris:20251028T190000
DTSTAMP:20260425T172838
CREATED:20251028T122927Z
LAST-MODIFIED:20260217T143543Z
UID:2666-1761670800-1761678000@oneconnecthub.al
SUMMARY:Product Launch - DIGITAL ROOTS
DESCRIPTION:* 28 Tetor 2025\, ora 17:00\nOne Connect Hub – Piramida\, Tiranë \nDigital Roots\, platforma lidere e talenteve pa kufij\, vjen për të prezantuar programet e reja kombëtare që nisin nga Dibra — duke lidhur rininë shqiptare me tregun global të punës\, edukimit dhe inovacionit. \nDigital Roots – Talents Without Borders. \n* 28 October 2025\, 17:00\nOne Connect Hub – Pyramid\, Tirana \nDigital Roots\, the leading platform for talents without borders\, arrives to present new national programs starting from Dibra — connecting Albanian youth with the global market of work\, education\, and innovation. \nDigital Roots – Talents Without Borders.
URL:https://oneconnecthub.al/event/prezantim-zyrtar-digital-roots/
CATEGORIES:Third Parties
END:VEVENT
END:VCALENDAR