BEGIN:VCALENDAR
VERSION:2.0
PRODID:-//One Connect Hub - ECPv6.9.0//NONSGML v1.0//EN
CALSCALE:GREGORIAN
METHOD:PUBLISH
X-ORIGINAL-URL:https://oneconnecthub.al
X-WR-CALDESC:Events for One Connect Hub
REFRESH-INTERVAL;VALUE=DURATION:PT1H
X-Robots-Tag:noindex
X-PUBLISHED-TTL:PT1H
BEGIN:VTIMEZONE
TZID:Europe/Paris
BEGIN:DAYLIGHT
TZOFFSETFROM:+0100
TZOFFSETTO:+0200
TZNAME:CEST
DTSTART:20250330T010000
END:DAYLIGHT
BEGIN:STANDARD
TZOFFSETFROM:+0200
TZOFFSETTO:+0100
TZNAME:CET
DTSTART:20251026T010000
END:STANDARD
END:VTIMEZONE
BEGIN:VEVENT
DTSTART;TZID=Europe/Paris:20251031T170000
DTEND;TZID=Europe/Paris:20251031T190000
DTSTAMP:20260425T173110
CREATED:20251029T155152Z
LAST-MODIFIED:20260217T143438Z
UID:2669-1761930000-1761937200@oneconnecthub.al
SUMMARY:Program Launch
DESCRIPTION:* Eventi “Guxo\, Ndërto\, Ndrysho” shënon lançimin zyrtar të Programit të Sipërmarrjes Rinore. Gjatë aktivitetit do të prezantohen gjetjet kryesore të pyetësorit kombëtar për nevojat e të rinjve në sipërmarrje dhe do të zhvillohen dy panele diskutimi: \nNjë panel me aktorë të ekosistemit të startup-eve në Shqipëri\, dhe një panel me të rinj që kanë nisur bizneset e tyre\, të cilët do të ndajnë përvojat dhe sfidat e para në rrugëtimin sipërmarrës. \n* The “Dare\, Build\, Change” event marks the official launch of the Youth Entrepreneurship Program. During the activity\, the key findings of the national survey on the needs of youth in entrepreneurship will be presented\, followed by two discussion panels: \nA panel with stakeholders from the startup ecosystem in Albania\, and a panel with young people who have started their own businesses\, who will share their initial experiences and challenges in the entrepreneurial journey.
URL:https://oneconnecthub.al/event/program-launch/
CATEGORIES:Third Parties
ATTACH;FMTTYPE=image/jpeg:https://oneconnecthub.al/wp-content/uploads/2025/10/WhatsApp-Image-2025-10-29-at-4.39.52-PM.jpeg
END:VEVENT
END:VCALENDAR