BEGIN:VCALENDAR
VERSION:2.0
PRODID:-//One Connect Hub - ECPv6.9.0//NONSGML v1.0//EN
CALSCALE:GREGORIAN
METHOD:PUBLISH
X-ORIGINAL-URL:https://oneconnecthub.al
X-WR-CALDESC:Events for One Connect Hub
REFRESH-INTERVAL;VALUE=DURATION:PT1H
X-Robots-Tag:noindex
X-PUBLISHED-TTL:PT1H
BEGIN:VTIMEZONE
TZID:Europe/Paris
BEGIN:DAYLIGHT
TZOFFSETFROM:+0100
TZOFFSETTO:+0200
TZNAME:CEST
DTSTART:20250330T010000
END:DAYLIGHT
BEGIN:STANDARD
TZOFFSETFROM:+0200
TZOFFSETTO:+0100
TZNAME:CET
DTSTART:20251026T010000
END:STANDARD
END:VTIMEZONE
BEGIN:VEVENT
DTSTART;TZID=Europe/Paris:20251107T170000
DTEND;TZID=Europe/Paris:20251107T190000
DTSTAMP:20260425T173109
CREATED:20251105T103516Z
LAST-MODIFIED:20260217T143259Z
UID:2677-1762534800-1762542000@oneconnecthub.al
SUMMARY:Product Launch - RecycAl
DESCRIPTION:* 7 Nëntor 2025\, ora 17:00\nOne Connect Hub – Piramida\, Tiranë \nRecycAl\, nisma e parë në Shqipëri që ndërthur riciklimin\, edukimin dhe inovacionin në një Park të Ekonomisë Qarkulluese\, po sjell një vizion të gjelbër për një të ardhme pa mbetje.\nMe teknologji të qëndrueshme dhe partneritete vendase e ndërkombëtare\, RecycAl po transformon mënyrën se si e shohim mbetjen jo si problem\, por si burim. \nRecycAl\, pionieri i ekonomisë qarkulluese në Shqipëri. \n* 7 November 2025\, 17:00\nOne Connect Hub – Pyramid\, Tirana \nRecycAl\, the first initiative in Albania to combine recycling\, education\, and innovation within a Circular Economy Park\, is bringing a green vision for a zero-waste future.\nThrough sustainable technology and local and international partnerships\, RecycAl is transforming how we view waste—not as a problem\, but as a resource. \nRecycAl\, the pioneer of the circular economy in Albania.
URL:https://oneconnecthub.al/event/product-launch-recycal/
CATEGORIES:Third Parties
ATTACH;FMTTYPE=image/png:https://oneconnecthub.al/wp-content/uploads/2025/11/IMG-20251104-WA0006-1.png
END:VEVENT
END:VCALENDAR