BEGIN:VCALENDAR
VERSION:2.0
PRODID:-//One Connect Hub - ECPv6.9.0//NONSGML v1.0//EN
CALSCALE:GREGORIAN
METHOD:PUBLISH
X-ORIGINAL-URL:https://oneconnecthub.al
X-WR-CALDESC:Events for One Connect Hub
REFRESH-INTERVAL;VALUE=DURATION:PT1H
X-Robots-Tag:noindex
X-PUBLISHED-TTL:PT1H
BEGIN:VTIMEZONE
TZID:Europe/Paris
BEGIN:DAYLIGHT
TZOFFSETFROM:+0100
TZOFFSETTO:+0200
TZNAME:CEST
DTSTART:20250330T010000
END:DAYLIGHT
BEGIN:STANDARD
TZOFFSETFROM:+0200
TZOFFSETTO:+0100
TZNAME:CET
DTSTART:20251026T010000
END:STANDARD
END:VTIMEZONE
BEGIN:VEVENT
DTSTART;TZID=Europe/Paris:20251112T170000
DTEND;TZID=Europe/Paris:20251112T190000
DTSTAMP:20260425T173152
CREATED:20251110T151716Z
LAST-MODIFIED:20260217T143149Z
UID:2685-1762966800-1762974000@oneconnecthub.al
SUMMARY:Salesforce Trailblazer Community Meeting
DESCRIPTION:* Bashkohuni me komunitetin dinamik Trailblazer Community Albania për një sesion unik rrjetëzimi dhe mësimi\, i projektuar posaçërisht për organizatat jofitimprurëse dhe ndryshuesit e rinj (change-makers) në mbarë Ballkanin. Ky aktivitet ballë për ballë synon të lidhë anëtarët e apasionuar të komunitetit\, liderët dhe inovatorët për të shfrytëzuar mjetet e Salesforce dhe për të nxitur ndryshime pozitive në rajonin tonë. \n* Join the vibrant Trailblazer Community Albania for a unique networking and learning session designed specifically for nonprofit organizations and new change-makers across the Balkans. This in-person event aims to connect passionate community members\, leaders\, and innovators to leverage Salesforce tools and drive positive change in our region.
URL:https://oneconnecthub.al/event/salesforce-trailblazer-community-meeting/
CATEGORIES:Third Parties
ATTACH;FMTTYPE=image/jpeg:https://oneconnecthub.al/wp-content/uploads/2025/11/WhatsApp-Image-2025-11-10-at-3.47.10-PM.jpeg
END:VEVENT
END:VCALENDAR