BEGIN:VCALENDAR
VERSION:2.0
PRODID:-//One Connect Hub - ECPv6.9.0//NONSGML v1.0//EN
CALSCALE:GREGORIAN
METHOD:PUBLISH
X-WR-CALNAME:One Connect Hub
X-ORIGINAL-URL:https://oneconnecthub.al
X-WR-CALDESC:Events for One Connect Hub
REFRESH-INTERVAL;VALUE=DURATION:PT1H
X-Robots-Tag:noindex
X-PUBLISHED-TTL:PT1H
BEGIN:VTIMEZONE
TZID:Europe/Paris
BEGIN:DAYLIGHT
TZOFFSETFROM:+0100
TZOFFSETTO:+0200
TZNAME:CEST
DTSTART:20250330T010000
END:DAYLIGHT
BEGIN:STANDARD
TZOFFSETFROM:+0200
TZOFFSETTO:+0100
TZNAME:CET
DTSTART:20251026T010000
END:STANDARD
END:VTIMEZONE
BEGIN:VEVENT
DTSTART;TZID=Europe/Paris:20251118T190000
DTEND;TZID=Europe/Paris:20251118T210000
DTSTAMP:20260425T172947
CREATED:20251110T151504Z
LAST-MODIFIED:20260217T142929Z
UID:2682-1763492400-1763499600@oneconnecthub.al
SUMMARY:Revolutionizing Tech Recruitment: Navigating Challenges and Unleashing Potential in Startup Ecosystems
DESCRIPTION:* Eventi targeton studente dhe profesioniste qe jane te profilizuar ne teknologji dhe inovacion. Të rinjtë prezent do kene mundesinë të shprehin dhe shkëmbejne mendimet e tyre mbi tendencat e tregut të punës në Tech\, por gjithashtu do shkembejne dhe marrin këshilla të vlefshme për të rritur shancet për PUNESIM në tregun kompetitiv të Teknologjisë & Inovacionit. \n* The event targets students and professionals specializing in technology and innovation. Attendees will have the opportunity to express and exchange their views on Tech labor market trends\, while also sharing and receiving valuable advice to increase their EMPLOYABILITY in the competitive Technology & Innovation market.
URL:https://oneconnecthub.al/event/revolutionizing-tech-recruitment-navigating-challenges-and-unleashing-potential-in-startup-ecosystems/
CATEGORIES:Third Parties
ATTACH;FMTTYPE=image/jpeg:https://oneconnecthub.al/wp-content/uploads/2025/11/Poster-Event-18-Nentor.jpg
END:VEVENT
END:VCALENDAR