BEGIN:VCALENDAR
VERSION:2.0
PRODID:-//One Connect Hub - ECPv6.9.0//NONSGML v1.0//EN
CALSCALE:GREGORIAN
METHOD:PUBLISH
X-WR-CALNAME:One Connect Hub
X-ORIGINAL-URL:https://oneconnecthub.al
X-WR-CALDESC:Events for One Connect Hub
REFRESH-INTERVAL;VALUE=DURATION:PT1H
X-Robots-Tag:noindex
X-PUBLISHED-TTL:PT1H
BEGIN:VTIMEZONE
TZID:Europe/Paris
BEGIN:DAYLIGHT
TZOFFSETFROM:+0100
TZOFFSETTO:+0200
TZNAME:CEST
DTSTART:20250330T010000
END:DAYLIGHT
BEGIN:STANDARD
TZOFFSETFROM:+0200
TZOFFSETTO:+0100
TZNAME:CET
DTSTART:20251026T010000
END:STANDARD
END:VTIMEZONE
BEGIN:VEVENT
DTSTART;TZID=Europe/Paris:20251122T110000
DTEND;TZID=Europe/Paris:20251122T130000
DTSTAMP:20260425T171859
CREATED:20251121T091812Z
LAST-MODIFIED:20260217T142826Z
UID:2692-1763809200-1763816400@oneconnecthub.al
SUMMARY:One Day for All - Global Action for Violence Against Women
DESCRIPTION:* “One Day for All – Global Action for Violence Against Women” është një nismë globale e 80 klubeve Rotaract në mbarë botën\, e dedikuar rritjes së ndërgjegjësimit kundër dhunës me bazë gjinore.\nNë kuadër të këtij projekti\, klubi ynë do të zhvillojë 2-3 prezantime të hapura për komunitetin\, me pjesëmarrjen vullnetare të profesionistëve (psikolog\, avokat\, ekonomist). Qëllimi është edukimi\, informimi dhe fuqizimi i qytetarëve në lidhje me parandalimin e dhunës dhe të drejtave ligjore. \n* “One Day for All – Global Action for Violence Against Women” is a global initiative involving 80 Rotaract clubs worldwide\, dedicated to raising awareness against gender-based violence.\nAs part of this project\, our club will hold 2-3 open community presentations featuring the voluntary participation of professionals\, including psychologists\, lawyers\, and economists. The goal is to educate\, inform\, and empower citizens regarding violence prevention and their legal rights.
URL:https://oneconnecthub.al/event/one-day-for-all-global-action-for-violence-against-women/
CATEGORIES:Third Parties
ATTACH;FMTTYPE=image/jpeg:https://oneconnecthub.al/wp-content/uploads/2025/11/WhatsApp-Image-2025-11-20-at-8.20.39-PM.jpeg
END:VEVENT
END:VCALENDAR