BEGIN:VCALENDAR
VERSION:2.0
PRODID:-//One Connect Hub - ECPv6.9.0//NONSGML v1.0//EN
CALSCALE:GREGORIAN
METHOD:PUBLISH
X-ORIGINAL-URL:https://oneconnecthub.al
X-WR-CALDESC:Events for One Connect Hub
REFRESH-INTERVAL;VALUE=DURATION:PT1H
X-Robots-Tag:noindex
X-PUBLISHED-TTL:PT1H
BEGIN:VTIMEZONE
TZID:Europe/Paris
BEGIN:DAYLIGHT
TZOFFSETFROM:+0100
TZOFFSETTO:+0200
TZNAME:CEST
DTSTART:20250330T010000
END:DAYLIGHT
BEGIN:STANDARD
TZOFFSETFROM:+0200
TZOFFSETTO:+0100
TZNAME:CET
DTSTART:20251026T010000
END:STANDARD
END:VTIMEZONE
BEGIN:VEVENT
DTSTART;TZID=Europe/Paris:20251211T170000
DTEND;TZID=Europe/Paris:20251211T190000
DTSTAMP:20260425T155947
CREATED:20251210T085715Z
LAST-MODIFIED:20260217T142606Z
UID:2707-1765472400-1765479600@oneconnecthub.al
SUMMARY:Product Launch - Kungul Approved
DESCRIPTION:* Nëse edhe ti beson në një jetë të shëndetshme\, na u bashko më 11 dhjetor në lancimin e të vetmes platforme ku gjen produkte të sigurta\, të verifikuara dhe të analizuara në çdo përbërës nga aplikacioni Kungul >>> KungulApproved.com. \nE krijuam sepse shumë prej jush na kërkuat një vend të besueshëm për zgjedhje të pastra për veten dhe familjen. \nJu presim te Kubi One Connect Hub – Piramida\, nga ora 17:30–20:00\, në një event të hapur me degustime\, muzikë dhe dhurata të kuruara me filozofinë Kungul. \n* If you also believe in a healthy lifestyle\, join us on December 11th for the launch of the only platform where you can find safe\, verified products—each ingredient analyzed by the Kungul app >>> KungulApproved.com. \nWe created this because so many of you asked for a trustworthy place to find clean choices for yourselves and your families. \nWe look forward to seeing you at Kubi One Connect Hub – Pyramid\, from 5:30 PM to 8:00 PM\, for an open event featuring tastings\, music\, and gifts curated with the Kungul philosophy.
URL:https://oneconnecthub.al/event/product-launch-kungul-approved/
CATEGORIES:Third Parties
ATTACH;FMTTYPE=image/jpeg:https://oneconnecthub.al/wp-content/uploads/2025/12/Copy-of-Kungul-Postimet-test-erblina-1304-x-452-px-scaled.jpg
END:VEVENT
END:VCALENDAR