BEGIN:VCALENDAR
VERSION:2.0
PRODID:-//One Connect Hub - ECPv6.9.0//NONSGML v1.0//EN
CALSCALE:GREGORIAN
METHOD:PUBLISH
X-WR-CALNAME:One Connect Hub
X-ORIGINAL-URL:https://oneconnecthub.al
X-WR-CALDESC:Events for One Connect Hub
REFRESH-INTERVAL;VALUE=DURATION:PT1H
X-Robots-Tag:noindex
X-PUBLISHED-TTL:PT1H
BEGIN:VTIMEZONE
TZID:Europe/Paris
BEGIN:DAYLIGHT
TZOFFSETFROM:+0100
TZOFFSETTO:+0200
TZNAME:CEST
DTSTART:20250330T010000
END:DAYLIGHT
BEGIN:STANDARD
TZOFFSETFROM:+0200
TZOFFSETTO:+0100
TZNAME:CET
DTSTART:20251026T010000
END:STANDARD
END:VTIMEZONE
BEGIN:VEVENT
DTSTART;TZID=Europe/Paris:20251226T170000
DTEND;TZID=Europe/Paris:20251226T190000
DTSTAMP:20260425T154603
CREATED:20251224T130052Z
LAST-MODIFIED:20260217T141845Z
UID:2726-1766768400-1766775600@oneconnecthub.al
SUMMARY:Freelancer's Community Meeting
DESCRIPTION:* Ky aktivitet është një takim i strukturuar profesional për freelancerët dhe profesionistët e pavarur të fokusuar në trendet dhe mundësitë që formësojnë vitin 2026. \nProgrami fillon me prezantime të shkurtra për të krijuar kontekstin dhe për të siguruar një fillim të organizuar mirë. Pastaj ofrojmë një segment të shkurtër “kush jemi” për të sqaruar qëllimin e mbledhjes dhe profilet e pjesëmarrësve. Sesioni vazhdon me “LinkedIn 2026”\, duke ofruar një pasqyrë praktike të platformës së ardhshme dhe dinamikës së tregut që lidhet me dukshmërinë\, besueshmërinë dhe zhvillimin e biznesit. \nMë pas\, “Freelancers 2026” zgjeron diskutimin në ndryshime më të gjera në industri\, pritjet e klientëve\, si dhe aftësitë dhe strategjitë e pozicionimit që do të përcaktojnë avantazhin konkurrues në vitin e ardhshëm. Eventi përfundon me një segment diskutimi të hapur dhe rrjetëzimi të hartuar për të inkurajuar shkëmbimin profesional\, të nxënit nga kolegët dhe bashkëpunimet e mundshme në një mjedis të relaksuar dhe respektues. \n* This activity is a structured professional gathering for freelancers and independent professionals\, focused on the trends and opportunities shaping 2026. \nThe program begins with brief introductions to establish context and ensure a well-organized start. We then offer a short “who we are” segment to clarify the purpose of the meeting and the profiles of the participants. The session continues with “LinkedIn 2026\,” providing a practical overview of the platform’s future and market dynamics related to visibility\, credibility\, and business development. \nFollowing this\, “Freelancers 2026” expands the discussion to broader industry shifts\, client expectations\, and the skills and positioning strategies that will define a competitive edge in the coming year. The event concludes with an open discussion and networking segment designed to encourage professional exchange\, peer learning\, and potential collaborations in a relaxed and respectful environment.
URL:https://oneconnecthub.al/event/freelancers-community-meeting/
CATEGORIES:Third Parties
ATTACH;FMTTYPE=image/jpeg:https://oneconnecthub.al/wp-content/uploads/2025/12/posterOneconnectHub_web-scaled.jpg
END:VEVENT
END:VCALENDAR