BEGIN:VCALENDAR
VERSION:2.0
PRODID:-//One Connect Hub - ECPv6.9.0//NONSGML v1.0//EN
CALSCALE:GREGORIAN
METHOD:PUBLISH
X-WR-CALNAME:One Connect Hub
X-ORIGINAL-URL:https://oneconnecthub.al
X-WR-CALDESC:Events for One Connect Hub
REFRESH-INTERVAL;VALUE=DURATION:PT1H
X-Robots-Tag:noindex
X-PUBLISHED-TTL:PT1H
BEGIN:VTIMEZONE
TZID:Europe/Paris
BEGIN:DAYLIGHT
TZOFFSETFROM:+0100
TZOFFSETTO:+0200
TZNAME:CEST
DTSTART:20260329T010000
END:DAYLIGHT
BEGIN:STANDARD
TZOFFSETFROM:+0200
TZOFFSETTO:+0100
TZNAME:CET
DTSTART:20261025T010000
END:STANDARD
END:VTIMEZONE
BEGIN:VEVENT
DTSTART;TZID=Europe/Paris:20260212T183000
DTEND;TZID=Europe/Paris:20260212T210000
DTSTAMP:20260425T123137
CREATED:20260203T142057Z
LAST-MODIFIED:20260217T140437Z
UID:2750-1770921000-1770930000@oneconnecthub.al
SUMMARY:TiranaJS Community Meeting
DESCRIPTION:* TiranaJS nis vitin 2026! \nKëtë shkurt\, Enea Xharau i bashkohet komunitetit tonë me një sesion të thelluar mbi një model të ri mendësor për Server-First React.\nGjithashtu\, do të përditësohemi me lajmet dhe trendet më të fundit nga JavaScript-i. \n* TiranaJS kicks off 2026! \nThis February\, Enea Xharau joins us for an in-depth session on a new mental model for Server-First React.\nPlus\, catch up on the latest JavaScript news and trends.
URL:https://oneconnecthub.al/event/tiranajs-community-meeting-2/
CATEGORIES:Third Parties
ATTACH;FMTTYPE=image/png:https://oneconnecthub.al/wp-content/uploads/2026/02/TiranaJS-Meetup-4-OneConnectHub-Banner-scaled.png
END:VEVENT
END:VCALENDAR