BEGIN:VCALENDAR
VERSION:2.0
PRODID:-//One Connect Hub - ECPv6.9.0//NONSGML v1.0//EN
CALSCALE:GREGORIAN
METHOD:PUBLISH
X-ORIGINAL-URL:https://oneconnecthub.al
X-WR-CALDESC:Events for One Connect Hub
REFRESH-INTERVAL;VALUE=DURATION:PT1H
X-Robots-Tag:noindex
X-PUBLISHED-TTL:PT1H
BEGIN:VTIMEZONE
TZID:Europe/Paris
BEGIN:DAYLIGHT
TZOFFSETFROM:+0100
TZOFFSETTO:+0200
TZNAME:CEST
DTSTART:20260329T010000
END:DAYLIGHT
BEGIN:STANDARD
TZOFFSETFROM:+0200
TZOFFSETTO:+0100
TZNAME:CET
DTSTART:20261025T010000
END:STANDARD
END:VTIMEZONE
BEGIN:VEVENT
DTSTART;TZID=Europe/Paris:20260217T090000
DTEND;TZID=Europe/Paris:20260218T170000
DTSTAMP:20260425T123803
CREATED:20260211T103636Z
LAST-MODIFIED:20260217T141510Z
UID:2766-1771318800-1771434000@oneconnecthub.al
SUMMARY:UPSHIFT Bootcamp
DESCRIPTION:* Observatori për të Drejtat e Fëmijëve dhe të Rinjve në bashkëpunim me UNICEF në Shqipëri\, po zbaton projektin “Reach and Rise: Connecting NEET Youth in Tirana to New Opportunities”. Në zbatim të këtij projekti\, organizohet një Bootcamp-it dy-ditor “Zgjidhje të udhëhequra nga të rinjtë për identifikimin dhe referimin e të rinjve NEET  (jashtë arsimit\, punësimit apo trajnimit) në Tiranë”\, në datat 17–18 shkurt 2026\, në ambjentet e One Connect Hub\, te Piramida. \n* The Observatory for Children’s and Youth Rights\, in cooperation with UNICEF in Albania\, is implementing the project “Reach and Rise: Connecting NEET Youth in Tirana to New Opportunities.”\nWithin the framework of this project\, a two-day Bootcamp titled “Youth-Led Solutions for the Identification and Referral of NEET Youth (Not in Education\, Employment\, or Training) in Tirana” will be organized on February 17–18\, 2026\, at the premises of One Connect Hub\, at the Pyramid.
URL:https://oneconnecthub.al/event/upshift-bootcamp/
CATEGORIES:Third Parties
ATTACH;FMTTYPE=image/png:https://oneconnecthub.al/wp-content/uploads/2026/02/Poster_UPSHIFT-Bootcamp_Observatori.png
END:VEVENT
END:VCALENDAR