BEGIN:VCALENDAR
VERSION:2.0
PRODID:-//One Connect Hub - ECPv6.9.0//NONSGML v1.0//EN
CALSCALE:GREGORIAN
METHOD:PUBLISH
X-ORIGINAL-URL:https://oneconnecthub.al
X-WR-CALDESC:Events for One Connect Hub
REFRESH-INTERVAL;VALUE=DURATION:PT1H
X-Robots-Tag:noindex
X-PUBLISHED-TTL:PT1H
BEGIN:VTIMEZONE
TZID:Europe/Paris
BEGIN:DAYLIGHT
TZOFFSETFROM:+0100
TZOFFSETTO:+0200
TZNAME:CEST
DTSTART:20260329T010000
END:DAYLIGHT
BEGIN:STANDARD
TZOFFSETFROM:+0200
TZOFFSETTO:+0100
TZNAME:CET
DTSTART:20261025T010000
END:STANDARD
END:VTIMEZONE
BEGIN:VEVENT
DTSTART;TZID=Europe/Paris:20260219T140000
DTEND;TZID=Europe/Paris:20260220T170000
DTSTAMP:20260425T123243
CREATED:20260211T141800Z
LAST-MODIFIED:20260217T141424Z
UID:2769-1771509600-1771606800@oneconnecthub.al
SUMMARY:Capacity Building
DESCRIPTION:* Nga identifikimi te referimi – Roli i ndermjetesuesit rinor ne garancine rinore.\nTrajnimi synon të forcojë kapacitetet e Ndërmjetësuesve Rinorë për të identifikuar\, orientuar dhe referuar në mënyrë efektive të rinjtë NEET drejt shërbimeve të Garancisë Rinore\, duke siguruar një proces të strukturuar nga kontaktimi në komunitet deri te ndjekja e rastit në bashkëpunim me AKPA dhe institucionet përkatëse. \n* From Identification to Referral – The Role of the Youth Mediator in the Youth Guarantee. \nThis training aims to strengthen the capacities of Youth Mediators to effectively identify\, guide\, and refer NEET young people to Youth Guarantee services\, ensuring a structured process from community outreach to case follow-up\, in cooperation with AKPA and the relevant institutions.
URL:https://oneconnecthub.al/event/capacity-building/
CATEGORIES:Third Parties
ATTACH;FMTTYPE=image/png:https://oneconnecthub.al/wp-content/uploads/2026/02/Banner_Trajnim_Observatori.png
END:VEVENT
BEGIN:VEVENT
DTSTART;TZID=Europe/Paris:20260219T180000
DTEND;TZID=Europe/Paris:20260219T200000
DTSTAMP:20260425T123243
CREATED:20260205T134011Z
LAST-MODIFIED:20260219T102144Z
UID:2753-1771524000-1771531200@oneconnecthub.al
SUMMARY:Bytes & Books Forum
DESCRIPTION:* Këtë vit kemi menduar t’i fillojmë takimet tona të përmuajshme Bytes & Bools me një temë interesante libri: “Biografitë e gjenive të biznesit të ICT në një libër… dhe e ardhmja që na pret.” \nNë këtë takim do të kemi kënaqësinë të diskutojmë librin e Prof. Adrian Civicit “Gjenitë e Biznesit” (Vol. I\, II)\, duke u ndalur posaçërisht te biografitë e gjenive të biznesit të ICT-së\, që nga Bill Gates e deri te Sam Altman\, për të diskutuar botën dhe shoqërinë që kanë ndryshuar dhe po e ndryshojnë vazhdimisht. \nKëtu nuk janë thjeshtë 48 biografi të njerëzve më të shquar të biznesit në mbarë botën\, por janë 48 histori dhe modele të cilat ngacmojnë imagjinatën e çdokujt që do të futet në botën e madhe të tregjeve. Në këtë libër modelet vijnë me ulje-ngritjet e tyre\, me raportet e ndërlikuara me tregun dhe shtetin\, me filozofinë e të bërit biznes dhe me mendësinë sesi pengesat mund të kthehen në avantazhe dhe qëndrueshmëria përmes një sjellje elastike mbetet çelësi kyç. Autori ka përzgjedhur 48 gjeni të botës së biznesit\, që nga Rrokfeleri\, Andrew Carnegie\, Stiv Xhobsi\, Bill Gates\, Elon Musk apo Sam Altman; – parë edhe nga filtri i kontekstit tonë\, ku ëndrrat dhe sfidat; guximi dhe mendësia\, strategjia dhe inovacioni mbeten elemente të panegociueshëm për të pasur sukses. \nNë takim do të jetë i pranishëm Prof. Civici për të realizuar së bashku një bashkëbisedim interesant mbi ndikimin që biznesi\, veçanërisht ICT-ja\, po shpërfaq mbi profesionet dhe shoqërinë ku jetojmë. \n* This year\, we have decided to kick off our monthly Bytes & Bools meetings with an engaging book theme: “Biographies of ICT Business Geniuses in One Book… and the Future That Awaits Us.” \nIn this meeting\, we will have the pleasure of discussing Prof. Adrian Civici’s book “Business Geniuses” (Vol. I & II)\, focusing in particular on the biographies of ICT business geniuses—from Bill Gates to Sam Altman—in order to explore the world and society they have changed and continue to reshape. \nThese are not merely 48 biographies of some of the most prominent business figures in the world; they are 48 stories and role models that spark the imagination of anyone who wishes to enter the vast world of markets. In this book\, the models are presented with their ups and downs\, their complex relationships with the market and the state\, their business philosophies\, and their mindsets—showing how obstacles can be turned into advantages and how resilience\, through flexible behavior\, remains the key factor. The author has selected 48 geniuses of the business world\, ranging from Rockefeller and Andrew Carnegie to Steve Jobs\, Bill Gates\, Elon Musk\, and Sam Altman—viewed through the lens of our own context\, where dreams and challenges\, courage and mindset\, strategy and innovation remain non-negotiable elements for achieving success. \nProf. Civici will be present at the meeting to engage in an interesting conversation on the impact that business—especially ICT—is having on professions and on the society in which we live.
URL:https://oneconnecthub.al/event/bytes-books-forum-4/
CATEGORIES:Third Parties
ATTACH;FMTTYPE=image/png:https://oneconnecthub.al/wp-content/uploads/2026/02/Screenshot-2026-02-05-150022-1.png
END:VEVENT
END:VCALENDAR