BEGIN:VCALENDAR
VERSION:2.0
PRODID:-//One Connect Hub - ECPv6.9.0//NONSGML v1.0//EN
CALSCALE:GREGORIAN
METHOD:PUBLISH
X-ORIGINAL-URL:https://oneconnecthub.al
X-WR-CALDESC:Events for One Connect Hub
REFRESH-INTERVAL;VALUE=DURATION:PT1H
X-Robots-Tag:noindex
X-PUBLISHED-TTL:PT1H
BEGIN:VTIMEZONE
TZID:Europe/Paris
BEGIN:DAYLIGHT
TZOFFSETFROM:+0100
TZOFFSETTO:+0200
TZNAME:CEST
DTSTART:20250330T010000
END:DAYLIGHT
BEGIN:STANDARD
TZOFFSETFROM:+0200
TZOFFSETTO:+0100
TZNAME:CET
DTSTART:20251026T010000
END:STANDARD
TZID:UTC
BEGIN:STANDARD
TZOFFSETFROM:+0000
TZOFFSETTO:+0000
TZNAME:UTC
DTSTART:20250101T000000
END:STANDARD
END:VTIMEZONE
BEGIN:VEVENT
DTSTART;TZID=Europe/Paris:20250522T190000
DTEND;TZID=Europe/Paris:20250522T210000
DTSTAMP:20260425T122603
CREATED:20250520T115945Z
LAST-MODIFIED:20260217T145544Z
UID:2531-1747940400-1747947600@oneconnecthub.al
SUMMARY:Product Launch - Medapp
DESCRIPTION:* Trinomial shpk me mbështëtjen e EU4Innovation dëshiron të lançojë aplikacionin mjekësor Medapp. Me një punë prej pothuajse 1 viti është punuar fort që ky aplikacion të jetë një ndihmë për pacientët në ndërtimin e memories së tyre mjekësore si dhe gjetjen në hapa tepër të thjeshtë të mjkëve\, klinikave e më tje ofruesve të shërbimeve mjekësore.    \n* Trinomial shpk\, with the support of EU4Innovation\, is proud to launch the medical application Medapp. Following nearly a year of intensive development\, this app is designed to assist patients in building their medical memory (health history) and locating doctors\, clinics\, and other healthcare providers through simple\, intuitive steps.
URL:https://oneconnecthub.al/event/product-launch-medapp/
CATEGORIES:Third Parties
ATTACH;FMTTYPE=image/png:https://oneconnecthub.al/wp-content/uploads/2025/05/Medapp-Soft-One-poster.png
END:VEVENT
BEGIN:VEVENT
DTSTART;TZID=Europe/Paris:20250507T180000
DTEND;TZID=Europe/Paris:20250507T200000
DTSTAMP:20260425T122603
CREATED:20250422T092831Z
LAST-MODIFIED:20260219T102204Z
UID:2520-1746640800-1746648000@oneconnecthub.al
SUMMARY:Bytes & Books Forum
DESCRIPTION:* Bytes and Books është themeluar për të qenë një agorë unike ku mblidhen bashkërisht ata që besojnë se libri prodhon kuptueshmëri dhe sistematizim cilësor të njohurive njerëzore dhe përdoruesit aktivë të teknologjisë dhe inovacionit për të ndarë ide\, për të sjellë përvoja dhe për t’u rritur bashkërisht. \nKomuniteti ynë është rritur në një ekosistem të gjallë krijuesish\, inovatorësh dhe mendimtarësh që janë të pasionuar për të kuptuar më mirë botën përreth nesh dhe për ta bërë më të mirë të tashmen dhe të ardhmen tonë përmes tekonologjisë. \n* Bytes and Books was established to be a unique agora\, bringing together those who believe that books produce profound understanding and a high-quality systematization of human knowledge\, alongside active users of technology and innovation\, to share ideas\, experiences\, and grow together. \nOur community has evolved into a vibrant ecosystem of creators\, innovators\, and thinkers who are passionate about better understanding the world around us and improving our present and future through technology.
URL:https://oneconnecthub.al/event/bytes-books-forum-3/
CATEGORIES:Third Parties
ATTACH;FMTTYPE=image/png:https://oneconnecthub.al/wp-content/uploads/2025/04/bytes-and-books-may.png
END:VEVENT
BEGIN:VEVENT
DTSTART;TZID=Europe/Paris:20250506T180000
DTEND;TZID=Europe/Paris:20250506T203000
DTSTAMP:20260425T122603
CREATED:20250422T130653Z
LAST-MODIFIED:20260217T145710Z
UID:2523-1746554400-1746563400@oneconnecthub.al
SUMMARY:Community Meeting - ALNOG
DESCRIPTION:* ALNOG (Albanian Network Operators Group) is a community-driven forum that brings together network professionals\, ISPs\, engineers\, and IT experts in Albania to collaborate\, share knowledge\, and discuss best practices in internet infrastructure and operations. As part of the broader global family of Network Operator Groups (NOGs)\, ALNOG promotes technical excellence\, open communication\, and regional cooperation to strengthen the internet ecosystem in Albania and the Western Balkans. \n* ALNOG (Albanian Network Operators Group) është një forum i udhëhequr nga komuniteti që bën bashkë profesionistët e rrjeteve\, ofruesit e shërbimit internet (ISP)\, inxhinierët dhe ekspertët e TI-së në Shqipëri për të bashkëpunuar\, ndarë njohuritë dhe diskutuar praktikat më të mira në infrastrukturën dhe operacionet e internetit.\nSi pjesë e familjes më të gjerë globale të Grupeve të Operatorëve të Rrjetit (NOGs)\, ALNOG promovon ekselencën teknike\, komunikimin e hapur dhe bashkëpunimin rajonal për të forcuar ekosistemin e internetit në Shqipëri dhe në Ballkanin Perëndimor.
URL:https://oneconnecthub.al/event/alnog-meeting/
CATEGORIES:Third Parties
ATTACH;FMTTYPE=image/jpeg:https://oneconnecthub.al/wp-content/uploads/2025/04/WhatsApp-Image-2025-04-22-at-2.48.32-PM-scaled.jpeg
END:VEVENT
BEGIN:VEVENT
DTSTART;TZID=Europe/Paris:20250424T180000
DTEND;TZID=Europe/Paris:20250424T200000
DTSTAMP:20260425T122603
CREATED:20250415T125709Z
LAST-MODIFIED:20260217T145740Z
UID:2517-1745517600-1745524800@oneconnecthub.al
SUMMARY:Youth & The Labor Market
DESCRIPTION:* Seminari “Youth & The Labour Market” do të mbahet më 24 Prill 2025\, pranë One Connect Hub\, Tiranë. \nKy event do të sjellë së bashku përfaqësues nga sektori publik\, privat dhe organizatat rinore për të diskutuar mbi mundësitë konkrete që iu ofrohen të rinjve në tregun e punës sot. \n🗓️ Data: 24 Prill 2025\n📍 Vendi: One Connect Hub\, Tiranë\n🕙 Ora: 18:00 – 20:00 \n* The seminar “Youth & The Labour Market” will be held on April 24\, 2025\, at One Connect Hub\, Tirana. \nThis event will bring together representatives from the public sector\, the private sector\, and youth organizations to discuss concrete opportunities available to young people in today’s labor market. \nEvent Details\n🗓️ Date: April 24\, 2025 \n📍 Location: One Connect Hub\, Tirana \n🕙 Time: 18:00 – 20:00
URL:https://oneconnecthub.al/event/youth-the-labor-market/
CATEGORIES:Third Parties
ATTACH;FMTTYPE=image/jpeg:https://oneconnecthub.al/wp-content/uploads/2025/04/WhatsApp-Image-2025-04-14-at-2.44.16-PM-scaled.jpeg
END:VEVENT
BEGIN:VEVENT
DTSTART;TZID=Europe/Paris:20250416T173000
DTEND;TZID=Europe/Paris:20250416T193000
DTSTAMP:20260425T122603
CREATED:20250404T144329Z
LAST-MODIFIED:20260217T145853Z
UID:2505-1744824600-1744831800@oneconnecthub.al
SUMMARY:Product Launch - PRiM
DESCRIPTION:* Inovacioni është në zemër të zhvillimit teknologjik në Shqipëri dhe AlbaniaTech po e çon këtë frymë një hap më tej. Më 16 prill\, në hapësirën më të re dhe moderne për bashkëpunim dhe krijimtari\, OneConnect Hub në Piramidën e Tiranës\, do të mbahet takimi i tretë i serisë së eventeve “Product Launch”\, këtë herë në bashkëpunim me Cyber Morfosis.\nPse të merrni pjesë?Ky nuk është një prezantim i zakonshëm produkti.  “Product Launch events” nga AlbaniaTech janë dizenjuar si platforma interaktive\, ku inovacioni takohet me mundësinë. Pjesëmarrësit do të mund:\nTë krijojnë kontakte me profesionistë të industrisë\, themelues startup-esh dhe drejtues të teknologjisë.\nTë njihen nga afër me vizionin e ekipit të Cyber Morfosis përmes një prezantimi interesant.\nTë eksplorojnë sfidat dhe këshillat në sigurinë kibernetike dhe të zbulojnë si mund të transformojnë përvojën e tyre të përditshme.\nDetajet e eventit:\nData: 16 prill\nVendndodhja: OneConnect Hub\, Piramida e Tiranës\nOra: 17:30 – 19:30 \n* Innovation is at the heart of technological development in Albania\, and AlbaniaTech is taking this spirit one step further. On April 16\, in the newest and most modern space for collaboration and creativity\, OneConnect Hub at the Pyramid of Tirana\, the third meeting of the “Product Launch” event series will be held\, this time in collaboration with Cyber Morfosis. \nWhy participate? This is not an ordinary product presentation. “Product Launch events” by AlbaniaTech are designed as interactive platforms where innovation meets opportunity. Participants will be able to:\nTo create contacts with industry professionals\, startup founders\, and technology leaders.\nTo get closely acquainted with the vision of the Cyber Morfosis team through an interesting presentation.\nTo explore challenges and tips in cybersecurity and discover how they can transform their daily experience. \nEvent details:\nDate: April 16\nLocation: OneConnect Hub\, Pyramid of Tirana\nTime: 17:30 – 19:30
URL:https://oneconnecthub.al/event/product-launch-prim/
CATEGORIES:Third Parties
ATTACH;FMTTYPE=image/jpeg:https://oneconnecthub.al/wp-content/uploads/2025/04/WhatsApp-Image-2025-04-04-at-4.20.30-PM.jpeg
END:VEVENT
BEGIN:VEVENT
DTSTART;TZID=Europe/Paris:20250411T180000
DTEND;TZID=Europe/Paris:20250411T200000
DTSTAMP:20260425T122603
CREATED:20250407T141130Z
LAST-MODIFIED:20260217T145927Z
UID:2512-1744394400-1744401600@oneconnecthub.al
SUMMARY:Product Launch - Albvin
DESCRIPTION:* Albvin\, një Startup shqiptar qe permes teknologjisë prodhon verë. Do të prezanohet se çfarë risie sjell në tregun shqiptar ky biznes inovator. \n* Albvin\, an Albanian startup that produces wine through technology. It will be presented what innovation this pioneering business brings to the Albanian market.
URL:https://oneconnecthub.al/event/product-launch-albvin/
CATEGORIES:Third Parties
ATTACH;FMTTYPE=image/jpeg:https://oneconnecthub.al/wp-content/uploads/2025/04/Poster-Albvin-1304x452-1-scaled.jpg
END:VEVENT
BEGIN:VEVENT
DTSTART;TZID=Europe/Paris:20250409T180000
DTEND;TZID=Europe/Paris:20250409T200000
DTSTAMP:20260425T122603
CREATED:20250319T125137Z
LAST-MODIFIED:20260217T145938Z
UID:2489-1744221600-1744228800@oneconnecthub.al
SUMMARY:Bytes & Books
DESCRIPTION:
URL:https://oneconnecthub.al/event/bytes-books-forum-2/
CATEGORIES:Third Parties
ATTACH;FMTTYPE=image/png:https://oneconnecthub.al/wp-content/uploads/2025/03/bytes-and-books-baner.png
END:VEVENT
BEGIN:VEVENT
DTSTART;TZID=Europe/Paris:20250407T173000
DTEND;TZID=Europe/Paris:20250407T193000
DTSTAMP:20260425T122603
CREATED:20250407T140806Z
LAST-MODIFIED:20260217T150023Z
UID:2509-1744047000-1744054200@oneconnecthub.al
SUMMARY:Product Launch
DESCRIPTION:* Lancimi i produkteve në fushën e lojërave elektronike të tre Startupeve shqiptare\, financuar nga skema Grant 2024 nga Startup Albania dhe Ministria e Sipërmarrjes. Gjatë eventit do të bëhet prezantimi i këtyre sipërmarrjeve.  \n* The product launch in the field of electronic games of three Albanian startups\, funded by the 2024 Grant scheme from Startup Albania and the Ministry of State for Entrepreneurship and Business Climate. During the event\, the presentation of these ventures will take place.
URL:https://oneconnecthub.al/event/product-launch/
CATEGORIES:Third Parties
ATTACH;FMTTYPE=image/jpeg:https://oneconnecthub.al/wp-content/uploads/2025/04/Eventi-Gaming-7-Prill-1304x452-1-scaled.jpg
END:VEVENT
BEGIN:VEVENT
DTSTART;TZID=Europe/Paris:20250404T193000
DTEND;TZID=Europe/Paris:20250404T210000
DTSTAMP:20260425T122603
CREATED:20250404T131846Z
LAST-MODIFIED:20260217T150113Z
UID:2501-1743795000-1743800400@oneconnecthub.al
SUMMARY:Book Promotion - "Ose ne"
DESCRIPTION:* Një diskutim mes Anisa Zaçe dhe Manjola LLoja Bushati iniciuar nga botimi i librit të Manjolës ”Ose ne”. I cili në formatin e disa skicave urbane sjell në vëmendje komunikimin e mardhënieve romantike ose jo mes njerëzve. Synojmë që nepërmjet këtij eventi të krijojmë një komunitet të ndërgjegjshëm dhe plot me dije mbi mardhëniet ndërnjerëzore dhe komunikimin. \n* A discussion between Anisa Zaçe and Manjola Lloja Bushati\, initiated by the publication of Manjola’s book ”Ose ne” (Or us). Written in the format of urban sketches\, the book brings to light the communication within romantic and non-romantic relationships. Through this event\, we aim to create a conscious community enriched with knowledge about interpersonal relationships and communication.
URL:https://oneconnecthub.al/event/diskutim-mbi-librin-ose-ne/
CATEGORIES:Third Parties
ATTACH;FMTTYPE=image/jpeg:https://oneconnecthub.al/wp-content/uploads/2025/04/landscape.jpg
END:VEVENT
BEGIN:VEVENT
DTSTART;TZID=Europe/Paris:20250319T173000
DTEND;TZID=Europe/Paris:20250319T193000
DTSTAMP:20260425T122603
CREATED:20250319T123229Z
LAST-MODIFIED:20260217T150254Z
UID:2485-1742405400-1742412600@oneconnecthub.al
SUMMARY:Product Launch - Lingoto
DESCRIPTION:
URL:https://oneconnecthub.al/event/lancimi-i-lingoto/
CATEGORIES:Third Parties
ATTACH;FMTTYPE=image/jpeg:https://oneconnecthub.al/wp-content/uploads/2025/03/WhatsApp-Image-2025-03-17-at-5.30.32-PM-1.jpeg
END:VEVENT
BEGIN:VEVENT
DTSTART;TZID=UTC:20250312T180000
DTEND;TZID=UTC:20250312T200000
DTSTAMP:20260425T122603
CREATED:20250303T125433Z
LAST-MODIFIED:20260217T150427Z
UID:1888-1741802400-1741809600@oneconnecthub.al
SUMMARY:Trailblazer Connect Tirana: Use Cases for Nonprofits & Open Networking
DESCRIPTION:* Bashkohuni me ne për një takim emocionues Trailblazer Connect në Tiranë! Pavarësisht nëse jeni drejtues i një organizate jofitimprurëse\, profesionist biznesi apo i apasionuar pas teknologjisë\, ky event është mundësia juaj për të eksploruar se si Slack përmirëson bashkëpunimin\, thjeshton proceset e punës dhe rrit produktivitetin në industri të ndryshme. \n* Join us for an exciting Trailblazer Connect meetup in Tirana! Whether you’re a nonprofit leader\, business professional\, or tech enthusiast\, this event is your opportunity to explore how Slack enhances collaboration\, streamlines workflows\, and drives productivity across different industries.
URL:https://oneconnecthub.al/event/trailblazer-connect-tirana-use-cases-for-nonprofits-open-networking/
CATEGORIES:Third Parties
ATTACH;FMTTYPE=image/jpeg:https://oneconnecthub.al/wp-content/uploads/2025/03/WhatsApp-Image-2025-02-28-at-4.16.24-PM-scaled.jpeg
END:VEVENT
BEGIN:VEVENT
DTSTART;TZID=UTC:20250312T120000
DTEND;TZID=UTC:20250312T150000
DTSTAMP:20260425T122603
CREATED:20250304T085207Z
LAST-MODIFIED:20260217T150425Z
UID:1891-1741780800-1741791600@oneconnecthub.al
SUMMARY:Finance Camp with Tirana's Highschools
DESCRIPTION:* Junior Achievement of Albania sjell një përvojë unike për nxënësit e shkollave të Arsimit të mesëm të ulët\, përmes Kampit të Financës\, një aktivitet dinamik që kombinon kreativitetin me aftësitë financiare. Pjesëmarrësit do të punojnë në grupe për të zhvilluar një ide biznesi\, duke analizuar kostot\, përfitimet dhe qëndrueshmërinë ekonomike të saj. Në fund\, ata do të prezantojnë projektet e tyre nga ku do të shpallet një grup fitues.\nKy kamp synon të zhvillojë mendësinë sipërmarrëse dhe të pajisë të rinjtë me njohuritë dhe mjetet e nevojshme për të marrë vendime të zgjuara financiare. \n* Junior Achievement of Albania brings a unique experience for lower secondary school students through the Finance Camp\, a dynamic activity that combines creativity with financial skills. Participants will work in groups to develop a business idea\, analyzing its costs\, benefits\, and economic sustainability. At the end\, they will present their projects\, after which a winning group will be announced.\\nThis camp aims to develop an entrepreneurial mindset and equip young people with the knowledge and tools necessary to make smart financial decisions.
URL:https://oneconnecthub.al/event/kamp-finance-me-shkollat-e-mesme-te-tiranes/
LOCATION:Hub\, Adress: “Bajram Curri” Boulevard\, Piramida Center\, Unit BE5\, Tirana\, Albania\, tirane\, 1001\, Albania
CATEGORIES:Third Parties
ATTACH;FMTTYPE=image/jpeg:https://oneconnecthub.al/wp-content/uploads/2025/03/WhatsApp-Image-2025-03-04-at-1.53.03-PM.jpeg
END:VEVENT
BEGIN:VEVENT
DTSTART;TZID=UTC:20250309T100000
DTEND;TZID=UTC:20250309T120000
DTSTAMP:20260425T122603
CREATED:20250303T121458Z
LAST-MODIFIED:20260217T150511Z
UID:1884-1741514400-1741521600@oneconnecthub.al
SUMMARY:Book Promotion
DESCRIPTION:* Provovimi i librit “Gjithçka është e mundur” – Arben Shpata
URL:https://oneconnecthub.al/event/promovim-i-librit-gjithcka-eshte-e-mundur-arben-shpata/
CATEGORIES:Third Parties
ATTACH;FMTTYPE=image/png:https://oneconnecthub.al/wp-content/uploads/2025/03/Promovim-Libri.png
END:VEVENT
BEGIN:VEVENT
DTSTART;TZID=UTC:20250305T170000
DTEND;TZID=UTC:20250305T200000
DTSTAMP:20260425T122603
CREATED:20250303T115555Z
LAST-MODIFIED:20260219T102210Z
UID:1882-1741194000-1741204800@oneconnecthub.al
SUMMARY:Bytes & Books Forum
DESCRIPTION:* Klubi i parë i Librit Teknologjia&Shoqëria – TEKSO. Një herë në muaj klubi do të zhvillojë Forumet/Takimet Bytes & Books dhe do të mbledhë  lexues të rinj\, nxënës  studentë\, pedagogë\, ekspertë\, botues\, autorë dhe sipërmarrës në fushën e inovacionit dhe teknologjisë   \n* The first Technology & Society Book Club – TEKSO. Once a month\, the club will host the Bytes & Books Forums/Meetings\, bringing together young readers\, pupils\, students\, educators\, experts\, publishers\, authors\, and entrepreneurs in the fields of innovation and technology.
URL:https://oneconnecthub.al/event/bytes-books-forum/
CATEGORIES:Third Parties
ATTACH;FMTTYPE=image/png:https://oneconnecthub.al/wp-content/uploads/2025/03/Banner-Bytes-Books-1-1.png
END:VEVENT
BEGIN:VEVENT
DTSTART;TZID=UTC:20250304T140000
DTEND;TZID=UTC:20250304T170000
DTSTAMP:20260425T122603
CREATED:20250303T114119Z
LAST-MODIFIED:20250303T114119Z
UID:1880-1741096800-1741107600@oneconnecthub.al
SUMMARY:Sprint Review Retrospective & Planning
DESCRIPTION:
URL:https://oneconnecthub.al/event/sprint-review-retrospective-planning/
CATEGORIES:Third Parties
END:VEVENT
END:VCALENDAR